BEGIN:VCALENDAR
VERSION:2.0
PRODID:-//Democratic Party of Contra Costa County - ECPv6.15.20//NONSGML v1.0//EN
CALSCALE:GREGORIAN
METHOD:PUBLISH
X-ORIGINAL-URL:https://contracostadems.com
X-WR-CALDESC:Events for Democratic Party of Contra Costa County
REFRESH-INTERVAL;VALUE=DURATION:PT1H
X-Robots-Tag:noindex
X-PUBLISHED-TTL:PT1H
BEGIN:VTIMEZONE
TZID:America/Los_Angeles
BEGIN:DAYLIGHT
TZOFFSETFROM:-0800
TZOFFSETTO:-0700
TZNAME:PDT
DTSTART:20270314T100000
END:DAYLIGHT
BEGIN:STANDARD
TZOFFSETFROM:-0700
TZOFFSETTO:-0800
TZNAME:PST
DTSTART:20271107T090000
END:STANDARD
BEGIN:DAYLIGHT
TZOFFSETFROM:-0800
TZOFFSETTO:-0700
TZNAME:PDT
DTSTART:20280312T100000
END:DAYLIGHT
BEGIN:STANDARD
TZOFFSETFROM:-0700
TZOFFSETTO:-0800
TZNAME:PST
DTSTART:20281105T090000
END:STANDARD
BEGIN:DAYLIGHT
TZOFFSETFROM:-0800
TZOFFSETTO:-0700
TZNAME:PDT
DTSTART:20290311T100000
END:DAYLIGHT
BEGIN:STANDARD
TZOFFSETFROM:-0700
TZOFFSETTO:-0800
TZNAME:PST
DTSTART:20291104T090000
END:STANDARD
END:VTIMEZONE
BEGIN:VEVENT
DTSTART;TZID=America/Los_Angeles:20281128T183000
DTEND;TZID=America/Los_Angeles:20281128T203000
DTSTAMP:20260425T175803
CREATED:20220728T052633Z
LAST-MODIFIED:20231021T233229Z
UID:10004435-1859049000-1859056200@contracostadems.com
SUMMARY:El Cerrito Dems
DESCRIPTION:This is a local Democratic club chartered by DPCCC. For more info\, contact the club. https://ecdclub.org/club-meetings/
URL:https://contracostadems.com/event/el-cerrito-dems/2028-11-28/
LOCATION:Hana Gardens Senior Center\, 10870 San Pablo Avenue\, El Cerrito\, 94530\, United States
CATEGORIES:Clubs
ATTACH;FMTTYPE=image/png:https://contracostadems.com/wp-content/uploads/2020/08/Artboard-16-1.png
ORGANIZER;CN="El Cerrito Democratic Club":MAILTO:ecdc.pres@gmail.com
END:VEVENT
BEGIN:VEVENT
DTSTART;TZID=America/Los_Angeles:20281212T180000
DTEND;TZID=America/Los_Angeles:20281212T193000
DTSTAMP:20260425T175803
CREATED:20240330T171751Z
LAST-MODIFIED:20240331T185205Z
UID:10004031-1860256800-1860262200@contracostadems.com
SUMMARY:West County Dems
DESCRIPTION:This is a local Democratic club chartered by DPCCC. Meetings are via Zoom. \nhttps://us02web.zoom.us/j/83146226722?pwd=cHRneSsxYkVnWWdTcTNQRnBBTmhzdz09 \nFor more info\, contact the club. https://www.westcountydemocraticclub.com
URL:https://contracostadems.com/event/west-county-dems-10-2/2028-12-12/
CATEGORIES:Clubs
ATTACH;FMTTYPE=image/png:https://contracostadems.com/wp-content/uploads/2023/09/WestCountyDemClub.png
END:VEVENT
BEGIN:VEVENT
DTSTART;TZID=America/Los_Angeles:20281218T183000
DTEND;TZID=America/Los_Angeles:20281218T200000
DTSTAMP:20260425T175803
CREATED:20220728T052633Z
LAST-MODIFIED:20240528T052553Z
UID:10004152-1860777000-1860782400@contracostadems.com
SUMMARY:Delta Democratic Club
DESCRIPTION:This is an East County Democratic Club chartered by DPCCC. For information about meeting location\, contact us at https://www.deltademocrats.org/
URL:https://contracostadems.com/event/delta-democratic-club-meetings/2028-12-18/
CATEGORIES:Clubs
ATTACH;FMTTYPE=image/jpeg:https://contracostadems.com/wp-content/uploads/2022/07/DeltaDemslogo2022.jpg
END:VEVENT
BEGIN:VEVENT
DTSTART;TZID=America/Los_Angeles:20281228T190000
DTEND;TZID=America/Los_Angeles:20281228T210000
DTSTAMP:20260425T175803
CREATED:20220728T052632Z
LAST-MODIFIED:20240521T010441Z
UID:10004063-1861642800-1861650000@contracostadems.com
SUMMARY:Pittsburg Dems
DESCRIPTION:This is a local Democratic club chartered by DPCCC.
URL:https://contracostadems.com/event/pittsburg-dems/2028-12-28/
CATEGORIES:Clubs
END:VEVENT
BEGIN:VEVENT
DTSTART;TZID=America/Los_Angeles:20281228T190000
DTEND;TZID=America/Los_Angeles:20281228T210000
DTSTAMP:20260425T175803
CREATED:20231024T014048Z
LAST-MODIFIED:20231024T014049Z
UID:10004535-1861642800-1861650000@contracostadems.com
SUMMARY:San Ramon Valley Dems
DESCRIPTION:This is a local Democratic club chartered by DPCCC. For more information or for the Zoom link to join the meeting\, send an email to president@srvdems.org
URL:https://contracostadems.com/event/san-ramon-valley-dems-28/2028-12-28/
CATEGORIES:Clubs
ATTACH;FMTTYPE=image/jpeg:https://contracostadems.com/wp-content/uploads/2019/11/SRVDC-LOGO-cropped.jpeg
ORGANIZER;CN="San Ramon Valley Democratic Club":MAILTO:president@srvdems.org
END:VEVENT
END:VCALENDAR