BEGIN:VCALENDAR
VERSION:2.0
PRODID:-//Democratic Party of Contra Costa County - ECPv6.15.20//NONSGML v1.0//EN
CALSCALE:GREGORIAN
METHOD:PUBLISH
X-WR-CALNAME:Democratic Party of Contra Costa County
X-ORIGINAL-URL:https://contracostadems.com
X-WR-CALDESC:Events for Democratic Party of Contra Costa County
REFRESH-INTERVAL;VALUE=DURATION:PT1H
X-Robots-Tag:noindex
X-PUBLISHED-TTL:PT1H
BEGIN:VTIMEZONE
TZID:America/Los_Angeles
BEGIN:DAYLIGHT
TZOFFSETFROM:-0800
TZOFFSETTO:-0700
TZNAME:PDT
DTSTART:20250309T100000
END:DAYLIGHT
BEGIN:STANDARD
TZOFFSETFROM:-0700
TZOFFSETTO:-0800
TZNAME:PST
DTSTART:20251102T090000
END:STANDARD
BEGIN:DAYLIGHT
TZOFFSETFROM:-0800
TZOFFSETTO:-0700
TZNAME:PDT
DTSTART:20260308T100000
END:DAYLIGHT
BEGIN:STANDARD
TZOFFSETFROM:-0700
TZOFFSETTO:-0800
TZNAME:PST
DTSTART:20261101T090000
END:STANDARD
BEGIN:DAYLIGHT
TZOFFSETFROM:-0800
TZOFFSETTO:-0700
TZNAME:PDT
DTSTART:20270314T100000
END:DAYLIGHT
BEGIN:STANDARD
TZOFFSETFROM:-0700
TZOFFSETTO:-0800
TZNAME:PST
DTSTART:20271107T090000
END:STANDARD
END:VTIMEZONE
BEGIN:VEVENT
DTSTART;TZID=America/Los_Angeles:20260208T090000
DTEND;TZID=America/Los_Angeles:20260208T170000
DTSTAMP:20260423T173243
CREATED:20251217T004417Z
LAST-MODIFIED:20251218T093419Z
UID:10004723-1770541200-1770570000@contracostadems.com
SUMMARY:Winter 2026 Campaign Bootcamp: Ask Us Anything Training Series
DESCRIPTION:Learn how to prepare and execute a campaign to get or stay elected or appointed. Topics include requirements\, ethics\, finances\,  public speaking\, and more.  \nDates: January 11th & 25th and February 1st & 8th\nTime: 9 a.m. – 5 p.m.\nLocation: IBEW Local 302\, Martinez\nCost: $200 early bird \nIt’s the perfect training for any interest in being involved in politics – campaign managers\, elected officials\, candidates commissioners\, volunteers\, anyone! \nGet your questions answered! Register today
URL:https://contracostadems.com/event/winter-2026-campaign-bootcamp-ask-us-anything-training-series/2026-02-08/
LOCATION:IBEW Local 302\, 1875 Arnold Dr\, Martinez\, CA\, 94553\, United States
CATEGORIES:Training
END:VEVENT
END:VCALENDAR