BEGIN:VCALENDAR
VERSION:2.0
PRODID:-//Democratic Party of Contra Costa County - ECPv6.15.20//NONSGML v1.0//EN
CALSCALE:GREGORIAN
METHOD:PUBLISH
X-WR-CALNAME:Democratic Party of Contra Costa County
X-ORIGINAL-URL:https://contracostadems.com
X-WR-CALDESC:Events for Democratic Party of Contra Costa County
REFRESH-INTERVAL;VALUE=DURATION:PT1H
X-Robots-Tag:noindex
X-PUBLISHED-TTL:PT1H
BEGIN:VTIMEZONE
TZID:America/Los_Angeles
BEGIN:DAYLIGHT
TZOFFSETFROM:-0800
TZOFFSETTO:-0700
TZNAME:PDT
DTSTART:20270314T100000
END:DAYLIGHT
BEGIN:STANDARD
TZOFFSETFROM:-0700
TZOFFSETTO:-0800
TZNAME:PST
DTSTART:20271107T090000
END:STANDARD
BEGIN:DAYLIGHT
TZOFFSETFROM:-0800
TZOFFSETTO:-0700
TZNAME:PDT
DTSTART:20280312T100000
END:DAYLIGHT
BEGIN:STANDARD
TZOFFSETFROM:-0700
TZOFFSETTO:-0800
TZNAME:PST
DTSTART:20281105T090000
END:STANDARD
BEGIN:DAYLIGHT
TZOFFSETFROM:-0800
TZOFFSETTO:-0700
TZNAME:PDT
DTSTART:20290311T100000
END:DAYLIGHT
BEGIN:STANDARD
TZOFFSETFROM:-0700
TZOFFSETTO:-0800
TZNAME:PST
DTSTART:20291104T090000
END:STANDARD
END:VTIMEZONE
BEGIN:VEVENT
DTSTART;TZID=America/Los_Angeles:20280106T190000
DTEND;TZID=America/Los_Angeles:20280106T210000
DTSTAMP:20260425T083011
CREATED:20240702T034404Z
LAST-MODIFIED:20240702T034810Z
UID:10004277-1830798000-1830805200@contracostadems.com
SUMMARY:Executive Committee
DESCRIPTION:The DPCCC Executive Committee Meeting is open to observers who are members of the Democratic Party of Contra Costa County.\nAll Leadership Team Members will receive agendas 7 days before the meeting by email.\nFor information send email to secretary@contracostadems.com.
URL:https://contracostadems.com/event/executive-committee-10/2028-01-06/
LOCATION:CA
CATEGORIES:Committees
ATTACH;FMTTYPE=image/svg+xml:https://contracostadems.com/wp-content/uploads/2020/01/logoHiResTransparent-1.svg
END:VEVENT
BEGIN:VEVENT
DTSTART;TZID=America/Los_Angeles:20280110T173000
DTEND;TZID=America/Los_Angeles:20280110T190000
DTSTAMP:20260425T083011
CREATED:20230710T202022Z
LAST-MODIFIED:20240528T045103Z
UID:10002857-1831138200-1831143600@contracostadems.com
SUMMARY:Training Committee
DESCRIPTION:For details\, email the Training Committee Chair\, Cheryl Sudduth\, at training@contracostadems.com.
URL:https://contracostadems.com/event/training-committee-meeting/2028-01-10/
LOCATION:CA\, United States
CATEGORIES:Committees
END:VEVENT
BEGIN:VEVENT
DTSTART;TZID=America/Los_Angeles:20280110T190000
DTEND;TZID=America/Los_Angeles:20280110T210000
DTSTAMP:20260425T083011
CREATED:20230922T041053Z
LAST-MODIFIED:20240528T043056Z
UID:10004113-1831143600-1831150800@contracostadems.com
SUMMARY:Rules Committee
DESCRIPTION:To attend\, contact Jeff Koertzen at jeff@jeffkoertzen.com
URL:https://contracostadems.com/event/rules-committee-27/2028-01-10/
LOCATION:Zoom\, CA
CATEGORIES:Committees
END:VEVENT
BEGIN:VEVENT
DTSTART;TZID=America/Los_Angeles:20280111T180000
DTEND;TZID=America/Los_Angeles:20280111T193000
DTSTAMP:20260425T083011
CREATED:20240330T171751Z
LAST-MODIFIED:20240331T185205Z
UID:10004020-1831226400-1831231800@contracostadems.com
SUMMARY:West County Dems
DESCRIPTION:This is a local Democratic club chartered by DPCCC. Meetings are via Zoom. \nhttps://us02web.zoom.us/j/83146226722?pwd=cHRneSsxYkVnWWdTcTNQRnBBTmhzdz09 \nFor more info\, contact the club. https://www.westcountydemocraticclub.com
URL:https://contracostadems.com/event/west-county-dems-10-2/2028-01-11/
LOCATION:CA
CATEGORIES:Clubs
ATTACH;FMTTYPE=image/png:https://contracostadems.com/wp-content/uploads/2023/09/WestCountyDemClub.png
END:VEVENT
BEGIN:VEVENT
DTSTART;TZID=America/Los_Angeles:20280117T183000
DTEND;TZID=America/Los_Angeles:20280117T200000
DTSTAMP:20260425T083011
CREATED:20220728T052633Z
LAST-MODIFIED:20240528T052553Z
UID:10003256-1831746600-1831752000@contracostadems.com
SUMMARY:Delta Democratic Club
DESCRIPTION:This is an East County Democratic Club chartered by DPCCC. For information about meeting location\, contact us at https://www.deltademocrats.org/
URL:https://contracostadems.com/event/delta-democratic-club-meetings/2028-01-17/
LOCATION:CA
CATEGORIES:Clubs
ATTACH;FMTTYPE=image/jpeg:https://contracostadems.com/wp-content/uploads/2022/07/DeltaDemslogo2022.jpg
END:VEVENT
BEGIN:VEVENT
DTSTART;TZID=America/Los_Angeles:20280120T190000
DTEND;TZID=America/Los_Angeles:20280120T220000
DTSTAMP:20260425T083011
CREATED:20220728T052633Z
LAST-MODIFIED:20231012T082824Z
UID:10001575-1832007600-1832018400@contracostadems.com
SUMMARY:General Membership Meeting
DESCRIPTION:If you are not a DPCCC member and wish to attend\, please RSVP to the DPCCC Secretary at secretary@contracostadems.com. \nIf you are a DPCCC member\, you should have received an email with details for the meeting about seven days in advance. If you did not\, please email the DPCCC Secretary at secretary@contracostadems.com.
URL:https://contracostadems.com/event/membership-meeting/2028-01-20/
LOCATION:Zoom\, CA
CATEGORIES:Meetings
ATTACH;FMTTYPE=image/png:https://contracostadems.com/wp-content/uploads/2019/08/logoHiResTransparent-e1574965383959.png
END:VEVENT
BEGIN:VEVENT
DTSTART;TZID=America/Los_Angeles:20280124T183000
DTEND;TZID=America/Los_Angeles:20280124T203000
DTSTAMP:20260425T083011
CREATED:20250213T015018Z
LAST-MODIFIED:20250213T015018Z
UID:10004485-1832351400-1832358600@contracostadems.com
SUMMARY:Diablo Valley Dems Club
DESCRIPTION:Hybrid meetings for the club. Check out our website for the Zoom link and agenda.
URL:https://contracostadems.com/event/diablo-valley-dems-club/2028-01-24/
LOCATION:Ygnacio Valley Library\, 2661 Oak Grove Rd.\, Walnut Creek\, CA\, 94598\, United States
END:VEVENT
BEGIN:VEVENT
DTSTART;TZID=America/Los_Angeles:20280125T183000
DTEND;TZID=America/Los_Angeles:20280125T203000
DTSTAMP:20260425T083011
CREATED:20220728T052633Z
LAST-MODIFIED:20231021T233229Z
UID:10003300-1832437800-1832445000@contracostadems.com
SUMMARY:El Cerrito Dems
DESCRIPTION:This is a local Democratic club chartered by DPCCC. For more info\, contact the club. https://ecdclub.org/club-meetings/
URL:https://contracostadems.com/event/el-cerrito-dems/2028-01-25/
LOCATION:Hana Gardens Senior Center\, 10870 San Pablo Avenue\, El Cerrito\, 94530\, United States
CATEGORIES:Clubs
ATTACH;FMTTYPE=image/png:https://contracostadems.com/wp-content/uploads/2020/08/Artboard-16-1.png
ORGANIZER;CN="El Cerrito Democratic Club":MAILTO:ecdc.pres@gmail.com
END:VEVENT
BEGIN:VEVENT
DTSTART;TZID=America/Los_Angeles:20280127T190000
DTEND;TZID=America/Los_Angeles:20280127T210000
DTSTAMP:20260425T083011
CREATED:20220728T052632Z
LAST-MODIFIED:20240521T010441Z
UID:10002958-1832612400-1832619600@contracostadems.com
SUMMARY:Pittsburg Dems
DESCRIPTION:This is a local Democratic club chartered by DPCCC.
URL:https://contracostadems.com/event/pittsburg-dems/2028-01-27/
LOCATION:CA
CATEGORIES:Clubs
END:VEVENT
BEGIN:VEVENT
DTSTART;TZID=America/Los_Angeles:20280127T190000
DTEND;TZID=America/Los_Angeles:20280127T210000
DTSTAMP:20260425T083011
CREATED:20231024T014048Z
LAST-MODIFIED:20231024T014049Z
UID:10003803-1832612400-1832619600@contracostadems.com
SUMMARY:San Ramon Valley Dems
DESCRIPTION:This is a local Democratic club chartered by DPCCC. For more information or for the Zoom link to join the meeting\, send an email to president@srvdems.org
URL:https://contracostadems.com/event/san-ramon-valley-dems-28/2028-01-27/
LOCATION:CA
CATEGORIES:Clubs
ATTACH;FMTTYPE=image/jpeg:https://contracostadems.com/wp-content/uploads/2019/11/SRVDC-LOGO-cropped.jpeg
ORGANIZER;CN="San Ramon Valley Democratic Club":MAILTO:president@srvdems.org
END:VEVENT
END:VCALENDAR