BEGIN:VCALENDAR
VERSION:2.0
PRODID:-//Democratic Party of Contra Costa County - ECPv6.15.20//NONSGML v1.0//EN
CALSCALE:GREGORIAN
METHOD:PUBLISH
X-ORIGINAL-URL:https://contracostadems.com
X-WR-CALDESC:Events for Democratic Party of Contra Costa County
REFRESH-INTERVAL;VALUE=DURATION:PT1H
X-Robots-Tag:noindex
X-PUBLISHED-TTL:PT1H
BEGIN:VTIMEZONE
TZID:America/Los_Angeles
BEGIN:DAYLIGHT
TZOFFSETFROM:-0800
TZOFFSETTO:-0700
TZNAME:PDT
DTSTART:20240310T100000
END:DAYLIGHT
BEGIN:STANDARD
TZOFFSETFROM:-0700
TZOFFSETTO:-0800
TZNAME:PST
DTSTART:20241103T090000
END:STANDARD
BEGIN:DAYLIGHT
TZOFFSETFROM:-0800
TZOFFSETTO:-0700
TZNAME:PDT
DTSTART:20250309T100000
END:DAYLIGHT
BEGIN:STANDARD
TZOFFSETFROM:-0700
TZOFFSETTO:-0800
TZNAME:PST
DTSTART:20251102T090000
END:STANDARD
BEGIN:DAYLIGHT
TZOFFSETFROM:-0800
TZOFFSETTO:-0700
TZNAME:PDT
DTSTART:20260308T100000
END:DAYLIGHT
BEGIN:STANDARD
TZOFFSETFROM:-0700
TZOFFSETTO:-0800
TZNAME:PST
DTSTART:20261101T090000
END:STANDARD
END:VTIMEZONE
BEGIN:VEVENT
DTSTART;TZID=America/Los_Angeles:20250424T190000
DTEND;TZID=America/Los_Angeles:20250424T210000
DTSTAMP:20260424T071116
CREATED:20220728T052632Z
LAST-MODIFIED:20240521T010441Z
UID:10002925-1745521200-1745528400@contracostadems.com
SUMMARY:Pittsburg Dems
DESCRIPTION:This is a local Democratic club chartered by DPCCC.
URL:https://contracostadems.com/event/pittsburg-dems/2025-04-24/
LOCATION:CA
CATEGORIES:Clubs
END:VEVENT
BEGIN:VEVENT
DTSTART;TZID=America/Los_Angeles:20250424T190000
DTEND;TZID=America/Los_Angeles:20250424T210000
DTSTAMP:20260424T071116
CREATED:20231024T014048Z
LAST-MODIFIED:20231024T014049Z
UID:10003770-1745521200-1745528400@contracostadems.com
SUMMARY:San Ramon Valley Dems
DESCRIPTION:This is a local Democratic club chartered by DPCCC. For more information or for the Zoom link to join the meeting\, send an email to president@srvdems.org
URL:https://contracostadems.com/event/san-ramon-valley-dems-28/2025-04-24/
LOCATION:CA
CATEGORIES:Clubs
ATTACH;FMTTYPE=image/jpeg:https://contracostadems.com/wp-content/uploads/2019/11/SRVDC-LOGO-cropped.jpeg
ORGANIZER;CN="San Ramon Valley Democratic Club":MAILTO:president@srvdems.org
END:VEVENT
BEGIN:VEVENT
DTSTART;TZID=America/Los_Angeles:20250428T183000
DTEND;TZID=America/Los_Angeles:20250428T203000
DTSTAMP:20260424T071116
CREATED:20250213T015018Z
LAST-MODIFIED:20250213T015018Z
UID:10004452-1745865000-1745872200@contracostadems.com
SUMMARY:Diablo Valley Dems Club
DESCRIPTION:Hybrid meetings for the club. Check out our website for the Zoom link and agenda.
URL:https://contracostadems.com/event/diablo-valley-dems-club/2025-04-28/
LOCATION:Ygnacio Valley Library\, 2661 Oak Grove Rd.\, Walnut Creek\, CA\, 94598\, United States
END:VEVENT
BEGIN:VEVENT
DTSTART;TZID=America/Los_Angeles:20250501T190000
DTEND;TZID=America/Los_Angeles:20250501T210000
DTSTAMP:20260424T071116
CREATED:20240702T034404Z
LAST-MODIFIED:20240702T034810Z
UID:10004245-1746126000-1746133200@contracostadems.com
SUMMARY:Executive Committee
DESCRIPTION:The DPCCC Executive Committee Meeting is open to observers who are members of the Democratic Party of Contra Costa County.\nAll Leadership Team Members will receive agendas 7 days before the meeting by email.\nFor information send email to secretary@contracostadems.com.
URL:https://contracostadems.com/event/executive-committee-10/2025-05-01/
LOCATION:CA
CATEGORIES:Committees
ATTACH;FMTTYPE=image/svg+xml:https://contracostadems.com/wp-content/uploads/2020/01/logoHiResTransparent-1.svg
END:VEVENT
BEGIN:VEVENT
DTSTART;TZID=America/Los_Angeles:20250512T173000
DTEND;TZID=America/Los_Angeles:20250512T190000
DTSTAMP:20260424T071116
CREATED:20230710T202022Z
LAST-MODIFIED:20240528T045103Z
UID:10002825-1747071000-1747076400@contracostadems.com
SUMMARY:Training Committee
DESCRIPTION:For details\, email the Training Committee Chair\, Cheryl Sudduth\, at training@contracostadems.com.
URL:https://contracostadems.com/event/training-committee-meeting/2025-05-12/
LOCATION:CA\, United States
CATEGORIES:Committees
END:VEVENT
BEGIN:VEVENT
DTSTART;TZID=America/Los_Angeles:20250512T190000
DTEND;TZID=America/Los_Angeles:20250512T210000
DTSTAMP:20260424T071116
CREATED:20230922T041053Z
LAST-MODIFIED:20240528T043056Z
UID:10004081-1747076400-1747083600@contracostadems.com
SUMMARY:Rules Committee
DESCRIPTION:To attend\, contact Jeff Koertzen at jeff@jeffkoertzen.com
URL:https://contracostadems.com/event/rules-committee-27/2025-05-12/
LOCATION:Zoom\, CA
CATEGORIES:Committees
END:VEVENT
BEGIN:VEVENT
DTSTART;TZID=America/Los_Angeles:20250513T180000
DTEND;TZID=America/Los_Angeles:20250513T193000
DTSTAMP:20260424T071116
CREATED:20240330T171751Z
LAST-MODIFIED:20240331T185205Z
UID:10003988-1747159200-1747164600@contracostadems.com
SUMMARY:West County Dems
DESCRIPTION:This is a local Democratic club chartered by DPCCC. Meetings are via Zoom. \nhttps://us02web.zoom.us/j/83146226722?pwd=cHRneSsxYkVnWWdTcTNQRnBBTmhzdz09 \nFor more info\, contact the club. https://www.westcountydemocraticclub.com
URL:https://contracostadems.com/event/west-county-dems-10-2/2025-05-13/
LOCATION:CA
CATEGORIES:Clubs
ATTACH;FMTTYPE=image/png:https://contracostadems.com/wp-content/uploads/2023/09/WestCountyDemClub.png
END:VEVENT
BEGIN:VEVENT
DTSTART;TZID=America/Los_Angeles:20250515T183000
DTEND;TZID=America/Los_Angeles:20250515T203000
DTSTAMP:20260424T071116
CREATED:20250502T035002Z
LAST-MODIFIED:20250502T035003Z
UID:10001546-1747333800-1747341000@contracostadems.com
SUMMARY:General Membership Meeting
DESCRIPTION:Please note: The May meeting starts 30 minutes early at 6:30 instead of 7. \nIf you are not a DPCCC member and wish to attend\, please RSVP to the DPCCC Secretary at secretary@contracostadems.com. \nIf you are a DPCCC member\, you should have received an email with details for the meeting about seven days in advance. If you did not\, please email the DPCCC Secretary at secretary@contracostadems.com.
URL:https://contracostadems.com/event/membership-meeting-10/
LOCATION:Zoom\, CA
CATEGORIES:Meetings
ATTACH;FMTTYPE=image/png:https://contracostadems.com/wp-content/uploads/2019/08/logoHiResTransparent-e1574965383959.png
END:VEVENT
BEGIN:VEVENT
DTSTART;TZID=America/Los_Angeles:20250517T100000
DTEND;TZID=America/Los_Angeles:20250517T150000
DTSTAMP:20260424T071116
CREATED:20250516T065354Z
LAST-MODIFIED:20250516T065354Z
UID:10004625-1747476000-1747494000@contracostadems.com
SUMMARY:Running to Win 26-28: Governance Training
DESCRIPTION:Whether you’re an experienced official or stepping into public service for the first time\, this is your moment to level up. The Democratic Party of Contra Costa County is proud to kick off our Run to Win: Ask (Almost) Anything Training Series with a dynamic\, in-person Governance Training Bootcamp. \nSix Sundays. One Game-Changing Experience. \nSpring Session Starts May 18\nLocation: IBEW Local 302 | 875 Arnold Drive\, Martinez\nTime: 10:00 AM – 3:00 PM\nCost: $300 full price \nThis training is packed with real-world knowledge\, cutting-edge strategies\, and the clarity you need to make bold change happen. The 6 in-person meetings will include topics focused on: \n\n“Firsts” & “Onlys”\nLeading in Public & Private\nMeeting Protocols & Parliamentary Procedures\nStrategic Communications: Media Relations\, Crisis Comms\, PR\nBudgeting & Finance Responsibilities\nLegal & Ethical Responsibilities\nBoundaries: Jurisdictional\, Governance\, Relational\nBuilding and Maintaining Relationships & Coalition\nManaging Risks & Reputation\nBuilding Human and Political Capital\nPitfalls of Public Service\n\nRegister Now \nQuestions? Reach out to training@contracostadems.com
URL:https://contracostadems.com/event/running-to-win-26-28-governance-training/2025-05-17/
LOCATION:CA
CATEGORIES:Training
END:VEVENT
BEGIN:VEVENT
DTSTART;TZID=America/Los_Angeles:20250519T183000
DTEND;TZID=America/Los_Angeles:20250519T200000
DTSTAMP:20260424T071116
CREATED:20220728T052633Z
LAST-MODIFIED:20240528T052553Z
UID:10003224-1747679400-1747684800@contracostadems.com
SUMMARY:Delta Democratic Club
DESCRIPTION:This is an East County Democratic Club chartered by DPCCC. For information about meeting location\, contact us at https://www.deltademocrats.org/
URL:https://contracostadems.com/event/delta-democratic-club-meetings/2025-05-19/
LOCATION:CA
CATEGORIES:Clubs
ATTACH;FMTTYPE=image/jpeg:https://contracostadems.com/wp-content/uploads/2022/07/DeltaDemslogo2022.jpg
END:VEVENT
BEGIN:VEVENT
DTSTART;TZID=America/Los_Angeles:20250522T190000
DTEND;TZID=America/Los_Angeles:20250522T200000
DTSTAMP:20260424T071116
CREATED:20250502T030833Z
LAST-MODIFIED:20251123T222906Z
UID:10004622-1747940400-1747944000@contracostadems.com
SUMMARY:Solidarity Gala Planning Committee
DESCRIPTION:Help us plan our annual Solidarity Gala!
URL:https://contracostadems.com/event/solidarity-gala-planning-committee/2025-05-22/
LOCATION:Zoom\, CA
CATEGORIES:Committees
END:VEVENT
BEGIN:VEVENT
DTSTART;TZID=America/Los_Angeles:20250527T183000
DTEND;TZID=America/Los_Angeles:20250527T203000
DTSTAMP:20260424T071116
CREATED:20220728T052633Z
LAST-MODIFIED:20231021T233229Z
UID:10003268-1748370600-1748377800@contracostadems.com
SUMMARY:El Cerrito Dems
DESCRIPTION:This is a local Democratic club chartered by DPCCC. For more info\, contact the club. https://ecdclub.org/club-meetings/
URL:https://contracostadems.com/event/el-cerrito-dems/2025-05-27/
LOCATION:Hana Gardens Senior Center\, 10870 San Pablo Avenue\, El Cerrito\, 94530\, United States
CATEGORIES:Clubs
ATTACH;FMTTYPE=image/png:https://contracostadems.com/wp-content/uploads/2020/08/Artboard-16-1.png
ORGANIZER;CN="El Cerrito Democratic Club":MAILTO:ecdc.pres@gmail.com
END:VEVENT
BEGIN:VEVENT
DTSTART;TZID=America/Los_Angeles:20250528T190000
DTEND;TZID=America/Los_Angeles:20250528T200000
DTSTAMP:20260424T071116
CREATED:20250227T014041Z
LAST-MODIFIED:20250227T014600Z
UID:10004755-1748458800-1748462400@contracostadems.com
SUMMARY:Comms & Infrastructure Committee
DESCRIPTION:Monthly meeting of DPCCC Communications & Infrastructure Committee\, team responsible for outbound communications for the Democratic Party of Contra Costa County – website\, social media\, public relations and email. \nMeeting Information\nDate: 4th Wednesday of each month (except December)\nTime: 7 p.m. – 8 p.m.\nZoom: https://us02web.zoom.us/j/84602073959\nOne tap mobile: +16699006833\,\,84602073959#
URL:https://contracostadems.com/event/comms-infrastructure-committee/2025-05-28/
LOCATION:Zoom\, CA
CATEGORIES:Committees
END:VEVENT
BEGIN:VEVENT
DTSTART;TZID=America/Los_Angeles:20250528T190000
DTEND;TZID=America/Los_Angeles:20250528T200000
DTSTAMP:20260424T071116
CREATED:20250528T222325Z
LAST-MODIFIED:20250528T222326Z
UID:10004561-1748458800-1748462400@contracostadems.com
SUMMARY:Comms & Infrastructure Committee
DESCRIPTION:Rescheduled to June 5th at 6 p.m. \nMonthly meeting of DPCCC Communications & Infrastructure Committee\, team responsible for outbound communications for the Democratic Party of Contra Costa County – website\, social media\, public relations and email. \nMeeting Information\nDate: 4th Wednesday of each month (except December)\nTime: 7 p.m. – 8 p.m.\nZoom: https://us02web.zoom.us/j/84602073959\nOne tap mobile: +16699006833\,\,84602073959#
URL:https://contracostadems.com/event/comms-infrastructure-committee-2/
LOCATION:Zoom\, CA
CATEGORIES:Committees
END:VEVENT
BEGIN:VEVENT
DTSTART;TZID=America/Los_Angeles:20250628T080000
DTEND;TZID=America/Los_Angeles:20250628T170000
DTSTAMP:20260424T071116
CREATED:20250614T170335Z
LAST-MODIFIED:20250614T170335Z
UID:10004654-1751097600-1751130000@contracostadems.com
SUMMARY:Martinez Juneteenth Celebration
DESCRIPTION:Come celebrate Juneteenth in Martinez\, featuring live music from BUTTAH’s Jook Joint Show! \nDate: June 28th \nTime: 11 a.m. – 2 p.m. \nLocation: Martinez Waterfront Park \nLearn more about the celebration.
URL:https://contracostadems.com/event/martinez-juneteenth-celebration/
LOCATION:CA
CATEGORIES:Community,Events
END:VEVENT
BEGIN:VEVENT
DTSTART;TZID=America/Los_Angeles:20250720T140000
DTEND;TZID=America/Los_Angeles:20250720T160000
DTSTAMP:20260424T071116
CREATED:20250713T054913Z
LAST-MODIFIED:20250713T054913Z
UID:10004664-1753020000-1753027200@contracostadems.com
SUMMARY:Marsh Creek Democratic Club General Meeting
DESCRIPTION:Guest Speaker Representative John Garamendi (CA 8) will join the club for their general meeting. You can attend in person or virtually! \nIn-person location:\n35 Oak St. 2nd Fl\nBrentwood\, CA \nRSVP at marshcreekdems@gmail.com for a Zoom link.
URL:https://contracostadems.com/event/marsh-creek-democratic-club-general-meeting/
LOCATION:CA
CATEGORIES:Clubs,Meetings
ORGANIZER;CN="Marsh Creek Dems":MAILTO:marshcreekdems@gmail.com
END:VEVENT
BEGIN:VEVENT
DTSTART;TZID=America/Los_Angeles:20251218T190000
DTEND;TZID=America/Los_Angeles:20251218T213000
DTSTAMP:20260424T071116
CREATED:20251123T223314Z
LAST-MODIFIED:20251123T223530Z
UID:10004712-1766084400-1766093400@contracostadems.com
SUMMARY:Holiday Celebration
DESCRIPTION:We will spend our regularly scheduled membership meeting time in celebration for all we’ve accomplished this year! It will be an evening of gratitude. \nJoin us for our free Holiday Party\, December 18\, 7-9:30 p.m. at UA Local 342 in Concord. All you have to do is RSVP! \nIt will be a potluck\, and each person who brings food will be automatically entered to win $100! Sign up to bring your favorite dish when you RSVP. \nWe’ll also be collecting food for our neighbors. Bring nutritious\, non-perishable items for our neighbors. Donations will go to the Contra Costa Food Bank. \nThank you for your passion and dedication all year long!
URL:https://contracostadems.com/event/holiday-celebration/
LOCATION:UA Local 342\, 935 Detroit Avenue\, Concord\, CA\, United States
END:VEVENT
END:VCALENDAR