BEGIN:VCALENDAR
VERSION:2.0
PRODID:-//Democratic Party of Contra Costa County - ECPv6.15.20//NONSGML v1.0//EN
CALSCALE:GREGORIAN
METHOD:PUBLISH
X-WR-CALNAME:Democratic Party of Contra Costa County
X-ORIGINAL-URL:https://contracostadems.com
X-WR-CALDESC:Events for Democratic Party of Contra Costa County
REFRESH-INTERVAL;VALUE=DURATION:PT1H
X-Robots-Tag:noindex
X-PUBLISHED-TTL:PT1H
BEGIN:VTIMEZONE
TZID:America/Los_Angeles
BEGIN:DAYLIGHT
TZOFFSETFROM:-0800
TZOFFSETTO:-0700
TZNAME:PDT
DTSTART:20240310T100000
END:DAYLIGHT
BEGIN:STANDARD
TZOFFSETFROM:-0700
TZOFFSETTO:-0800
TZNAME:PST
DTSTART:20241103T090000
END:STANDARD
BEGIN:DAYLIGHT
TZOFFSETFROM:-0800
TZOFFSETTO:-0700
TZNAME:PDT
DTSTART:20250309T100000
END:DAYLIGHT
BEGIN:STANDARD
TZOFFSETFROM:-0700
TZOFFSETTO:-0800
TZNAME:PST
DTSTART:20251102T090000
END:STANDARD
BEGIN:DAYLIGHT
TZOFFSETFROM:-0800
TZOFFSETTO:-0700
TZNAME:PDT
DTSTART:20260308T100000
END:DAYLIGHT
BEGIN:STANDARD
TZOFFSETFROM:-0700
TZOFFSETTO:-0800
TZNAME:PST
DTSTART:20261101T090000
END:STANDARD
END:VTIMEZONE
BEGIN:VEVENT
DTSTART;TZID=America/Los_Angeles:20250727T100000
DTEND;TZID=America/Los_Angeles:20250727T150000
DTSTAMP:20260424T034300
CREATED:20250516T065354Z
LAST-MODIFIED:20250516T065354Z
UID:10004630-1753610400-1753628400@contracostadems.com
SUMMARY:Running to Win 26-28: Governance Training
DESCRIPTION:Whether you’re an experienced official or stepping into public service for the first time\, this is your moment to level up. The Democratic Party of Contra Costa County is proud to kick off our Run to Win: Ask (Almost) Anything Training Series with a dynamic\, in-person Governance Training Bootcamp. \nSix Sundays. One Game-Changing Experience. \nSpring Session Starts May 18\nLocation: IBEW Local 302 | 875 Arnold Drive\, Martinez\nTime: 10:00 AM – 3:00 PM\nCost: $300 full price \nThis training is packed with real-world knowledge\, cutting-edge strategies\, and the clarity you need to make bold change happen. The 6 in-person meetings will include topics focused on: \n\n“Firsts” & “Onlys”\nLeading in Public & Private\nMeeting Protocols & Parliamentary Procedures\nStrategic Communications: Media Relations\, Crisis Comms\, PR\nBudgeting & Finance Responsibilities\nLegal & Ethical Responsibilities\nBoundaries: Jurisdictional\, Governance\, Relational\nBuilding and Maintaining Relationships & Coalition\nManaging Risks & Reputation\nBuilding Human and Political Capital\nPitfalls of Public Service\n\nRegister Now \nQuestions? Reach out to training@contracostadems.com
URL:https://contracostadems.com/event/running-to-win-26-28-governance-training/2025-07-27/
CATEGORIES:Training
END:VEVENT
BEGIN:VEVENT
DTSTART;TZID=America/Los_Angeles:20250728T183000
DTEND;TZID=America/Los_Angeles:20250728T203000
DTSTAMP:20260424T034300
CREATED:20250213T015018Z
LAST-MODIFIED:20250213T015018Z
UID:10004455-1753727400-1753734600@contracostadems.com
SUMMARY:Diablo Valley Dems Club
DESCRIPTION:Hybrid meetings for the club. Check out our website for the Zoom link and agenda.
URL:https://contracostadems.com/event/diablo-valley-dems-club/2025-07-28/
LOCATION:Ygnacio Valley Library\, 2661 Oak Grove Rd.\, Walnut Creek\, CA\, 94598\, United States
END:VEVENT
BEGIN:VEVENT
DTSTART;TZID=America/Los_Angeles:20250807T190000
DTEND;TZID=America/Los_Angeles:20250807T210000
DTSTAMP:20260424T034300
CREATED:20240702T034404Z
LAST-MODIFIED:20240702T034810Z
UID:10004248-1754593200-1754600400@contracostadems.com
SUMMARY:Executive Committee
DESCRIPTION:The DPCCC Executive Committee Meeting is open to observers who are members of the Democratic Party of Contra Costa County.\nAll Leadership Team Members will receive agendas 7 days before the meeting by email.\nFor information send email to secretary@contracostadems.com.
URL:https://contracostadems.com/event/executive-committee-10/2025-08-07/
CATEGORIES:Committees
ATTACH;FMTTYPE=image/svg+xml:https://contracostadems.com/wp-content/uploads/2020/01/logoHiResTransparent-1.svg
END:VEVENT
BEGIN:VEVENT
DTSTART;TZID=America/Los_Angeles:20250812T180000
DTEND;TZID=America/Los_Angeles:20250812T193000
DTSTAMP:20260424T034300
CREATED:20240330T171751Z
LAST-MODIFIED:20240331T185205Z
UID:10003991-1755021600-1755027000@contracostadems.com
SUMMARY:West County Dems
DESCRIPTION:This is a local Democratic club chartered by DPCCC. Meetings are via Zoom. \nhttps://us02web.zoom.us/j/83146226722?pwd=cHRneSsxYkVnWWdTcTNQRnBBTmhzdz09 \nFor more info\, contact the club. https://www.westcountydemocraticclub.com
URL:https://contracostadems.com/event/west-county-dems-10-2/2025-08-12/
CATEGORIES:Clubs
ATTACH;FMTTYPE=image/png:https://contracostadems.com/wp-content/uploads/2023/09/WestCountyDemClub.png
END:VEVENT
BEGIN:VEVENT
DTSTART;TZID=America/Los_Angeles:20251218T190000
DTEND;TZID=America/Los_Angeles:20251218T213000
DTSTAMP:20260424T034300
CREATED:20251123T223314Z
LAST-MODIFIED:20251123T223530Z
UID:10004712-1766084400-1766093400@contracostadems.com
SUMMARY:Holiday Celebration
DESCRIPTION:We will spend our regularly scheduled membership meeting time in celebration for all we’ve accomplished this year! It will be an evening of gratitude. \nJoin us for our free Holiday Party\, December 18\, 7-9:30 p.m. at UA Local 342 in Concord. All you have to do is RSVP! \nIt will be a potluck\, and each person who brings food will be automatically entered to win $100! Sign up to bring your favorite dish when you RSVP. \nWe’ll also be collecting food for our neighbors. Bring nutritious\, non-perishable items for our neighbors. Donations will go to the Contra Costa Food Bank. \nThank you for your passion and dedication all year long!
URL:https://contracostadems.com/event/holiday-celebration/
LOCATION:UA Local 342\, 935 Detroit Avenue\, Concord\, CA\, United States
END:VEVENT
END:VCALENDAR