BEGIN:VCALENDAR
VERSION:2.0
PRODID:-//Democratic Party of Contra Costa County - ECPv6.15.20//NONSGML v1.0//EN
CALSCALE:GREGORIAN
METHOD:PUBLISH
X-WR-CALNAME:Democratic Party of Contra Costa County
X-ORIGINAL-URL:https://contracostadems.com
X-WR-CALDESC:Events for Democratic Party of Contra Costa County
REFRESH-INTERVAL;VALUE=DURATION:PT1H
X-Robots-Tag:noindex
X-PUBLISHED-TTL:PT1H
BEGIN:VTIMEZONE
TZID:America/Los_Angeles
BEGIN:DAYLIGHT
TZOFFSETFROM:-0800
TZOFFSETTO:-0700
TZNAME:PDT
DTSTART:20240310T100000
END:DAYLIGHT
BEGIN:STANDARD
TZOFFSETFROM:-0700
TZOFFSETTO:-0800
TZNAME:PST
DTSTART:20241103T090000
END:STANDARD
BEGIN:DAYLIGHT
TZOFFSETFROM:-0800
TZOFFSETTO:-0700
TZNAME:PDT
DTSTART:20250309T100000
END:DAYLIGHT
BEGIN:STANDARD
TZOFFSETFROM:-0700
TZOFFSETTO:-0800
TZNAME:PST
DTSTART:20251102T090000
END:STANDARD
BEGIN:DAYLIGHT
TZOFFSETFROM:-0800
TZOFFSETTO:-0700
TZNAME:PDT
DTSTART:20260308T100000
END:DAYLIGHT
BEGIN:STANDARD
TZOFFSETFROM:-0700
TZOFFSETTO:-0800
TZNAME:PST
DTSTART:20261101T090000
END:STANDARD
END:VTIMEZONE
BEGIN:VEVENT
DTSTART;TZID=America/Los_Angeles:20250821T190000
DTEND;TZID=America/Los_Angeles:20250821T220000
DTSTAMP:20260424T045220
CREATED:20220728T052633Z
LAST-MODIFIED:20231012T082824Z
UID:10001549-1755802800-1755813600@contracostadems.com
SUMMARY:General Membership Meeting
DESCRIPTION:If you are not a DPCCC member and wish to attend\, please RSVP to the DPCCC Secretary at secretary@contracostadems.com. \nIf you are a DPCCC member\, you should have received an email with details for the meeting about seven days in advance. If you did not\, please email the DPCCC Secretary at secretary@contracostadems.com.
URL:https://contracostadems.com/event/membership-meeting/2025-08-21/
LOCATION:Zoom\, CA
CATEGORIES:Meetings
ATTACH;FMTTYPE=image/png:https://contracostadems.com/wp-content/uploads/2019/08/logoHiResTransparent-e1574965383959.png
END:VEVENT
BEGIN:VEVENT
DTSTART;TZID=America/Los_Angeles:20250826T183000
DTEND;TZID=America/Los_Angeles:20250826T203000
DTSTAMP:20260424T045220
CREATED:20220728T052633Z
LAST-MODIFIED:20231021T233229Z
UID:10003271-1756233000-1756240200@contracostadems.com
SUMMARY:El Cerrito Dems
DESCRIPTION:This is a local Democratic club chartered by DPCCC. For more info\, contact the club. https://ecdclub.org/club-meetings/
URL:https://contracostadems.com/event/el-cerrito-dems/2025-08-26/
LOCATION:Hana Gardens Senior Center\, 10870 San Pablo Avenue\, El Cerrito\, 94530\, United States
CATEGORIES:Clubs
ATTACH;FMTTYPE=image/png:https://contracostadems.com/wp-content/uploads/2020/08/Artboard-16-1.png
ORGANIZER;CN="El Cerrito Democratic Club":MAILTO:ecdc.pres@gmail.com
END:VEVENT
BEGIN:VEVENT
DTSTART;TZID=America/Los_Angeles:20250827T190000
DTEND;TZID=America/Los_Angeles:20250827T200000
DTSTAMP:20260424T045220
CREATED:20250227T014041Z
LAST-MODIFIED:20250227T014600Z
UID:10004564-1756321200-1756324800@contracostadems.com
SUMMARY:Comms & Infrastructure Committee
DESCRIPTION:Monthly meeting of DPCCC Communications & Infrastructure Committee\, team responsible for outbound communications for the Democratic Party of Contra Costa County – website\, social media\, public relations and email. \nMeeting Information\nDate: 4th Wednesday of each month (except December)\nTime: 7 p.m. – 8 p.m.\nZoom: https://us02web.zoom.us/j/84602073959\nOne tap mobile: +16699006833\,\,84602073959#
URL:https://contracostadems.com/event/comms-infrastructure-committee/2025-08-27/
LOCATION:Zoom\, CA
CATEGORIES:Committees
END:VEVENT
BEGIN:VEVENT
DTSTART;TZID=America/Los_Angeles:20251218T190000
DTEND;TZID=America/Los_Angeles:20251218T213000
DTSTAMP:20260424T045220
CREATED:20251123T223314Z
LAST-MODIFIED:20251123T223530Z
UID:10004712-1766084400-1766093400@contracostadems.com
SUMMARY:Holiday Celebration
DESCRIPTION:We will spend our regularly scheduled membership meeting time in celebration for all we’ve accomplished this year! It will be an evening of gratitude. \nJoin us for our free Holiday Party\, December 18\, 7-9:30 p.m. at UA Local 342 in Concord. All you have to do is RSVP! \nIt will be a potluck\, and each person who brings food will be automatically entered to win $100! Sign up to bring your favorite dish when you RSVP. \nWe’ll also be collecting food for our neighbors. Bring nutritious\, non-perishable items for our neighbors. Donations will go to the Contra Costa Food Bank. \nThank you for your passion and dedication all year long!
URL:https://contracostadems.com/event/holiday-celebration/
LOCATION:UA Local 342\, 935 Detroit Avenue\, Concord\, CA\, United States
END:VEVENT
END:VCALENDAR