BEGIN:VCALENDAR
VERSION:2.0
PRODID:-//Democratic Party of Contra Costa County - ECPv6.15.20//NONSGML v1.0//EN
CALSCALE:GREGORIAN
METHOD:PUBLISH
X-ORIGINAL-URL:https://contracostadems.com
X-WR-CALDESC:Events for Democratic Party of Contra Costa County
REFRESH-INTERVAL;VALUE=DURATION:PT1H
X-Robots-Tag:noindex
X-PUBLISHED-TTL:PT1H
BEGIN:VTIMEZONE
TZID:America/Los_Angeles
BEGIN:DAYLIGHT
TZOFFSETFROM:-0800
TZOFFSETTO:-0700
TZNAME:PDT
DTSTART:20240310T100000
END:DAYLIGHT
BEGIN:STANDARD
TZOFFSETFROM:-0700
TZOFFSETTO:-0800
TZNAME:PST
DTSTART:20241103T090000
END:STANDARD
BEGIN:DAYLIGHT
TZOFFSETFROM:-0800
TZOFFSETTO:-0700
TZNAME:PDT
DTSTART:20250309T100000
END:DAYLIGHT
BEGIN:STANDARD
TZOFFSETFROM:-0700
TZOFFSETTO:-0800
TZNAME:PST
DTSTART:20251102T090000
END:STANDARD
BEGIN:DAYLIGHT
TZOFFSETFROM:-0800
TZOFFSETTO:-0700
TZNAME:PDT
DTSTART:20260308T100000
END:DAYLIGHT
BEGIN:STANDARD
TZOFFSETFROM:-0700
TZOFFSETTO:-0800
TZNAME:PST
DTSTART:20261101T090000
END:STANDARD
END:VTIMEZONE
BEGIN:VEVENT
DTSTART;TZID=America/Los_Angeles:20250609T190000
DTEND;TZID=America/Los_Angeles:20250609T210000
DTSTAMP:20260424T082508
CREATED:20230922T041053Z
LAST-MODIFIED:20240528T043056Z
UID:10004082-1749495600-1749502800@contracostadems.com
SUMMARY:Rules Committee
DESCRIPTION:To attend\, contact Jeff Koertzen at jeff@jeffkoertzen.com
URL:https://contracostadems.com/event/rules-committee-27/2025-06-09/
LOCATION:Zoom\, CA
CATEGORIES:Committees
END:VEVENT
BEGIN:VEVENT
DTSTART;TZID=America/Los_Angeles:20250610T180000
DTEND;TZID=America/Los_Angeles:20250610T193000
DTSTAMP:20260424T082508
CREATED:20240330T171751Z
LAST-MODIFIED:20240331T185205Z
UID:10003989-1749578400-1749583800@contracostadems.com
SUMMARY:West County Dems
DESCRIPTION:This is a local Democratic club chartered by DPCCC. Meetings are via Zoom. \nhttps://us02web.zoom.us/j/83146226722?pwd=cHRneSsxYkVnWWdTcTNQRnBBTmhzdz09 \nFor more info\, contact the club. https://www.westcountydemocraticclub.com
URL:https://contracostadems.com/event/west-county-dems-10-2/2025-06-10/
CATEGORIES:Clubs
ATTACH;FMTTYPE=image/png:https://contracostadems.com/wp-content/uploads/2023/09/WestCountyDemClub.png
END:VEVENT
BEGIN:VEVENT
DTSTART;TZID=America/Los_Angeles:20250616T183000
DTEND;TZID=America/Los_Angeles:20250616T200000
DTSTAMP:20260424T082508
CREATED:20220728T052633Z
LAST-MODIFIED:20240528T052553Z
UID:10003225-1750098600-1750104000@contracostadems.com
SUMMARY:Delta Democratic Club
DESCRIPTION:This is an East County Democratic Club chartered by DPCCC. For information about meeting location\, contact us at https://www.deltademocrats.org/
URL:https://contracostadems.com/event/delta-democratic-club-meetings/2025-06-16/
CATEGORIES:Clubs
ATTACH;FMTTYPE=image/jpeg:https://contracostadems.com/wp-content/uploads/2022/07/DeltaDemslogo2022.jpg
END:VEVENT
BEGIN:VEVENT
DTSTART;TZID=America/Los_Angeles:20250619T190000
DTEND;TZID=America/Los_Angeles:20250619T220000
DTSTAMP:20260424T082508
CREATED:20220728T052633Z
LAST-MODIFIED:20231012T082824Z
UID:10004657-1750359600-1750370400@contracostadems.com
SUMMARY:General Membership Meeting
DESCRIPTION:If you are not a DPCCC member and wish to attend\, please RSVP to the DPCCC Secretary at secretary@contracostadems.com. \nIf you are a DPCCC member\, you should have received an email with details for the meeting about seven days in advance. If you did not\, please email the DPCCC Secretary at secretary@contracostadems.com.
URL:https://contracostadems.com/event/membership-meeting/2025-06-19/
LOCATION:Zoom\, CA
CATEGORIES:Meetings
ATTACH;FMTTYPE=image/png:https://contracostadems.com/wp-content/uploads/2019/08/logoHiResTransparent-e1574965383959.png
END:VEVENT
BEGIN:VEVENT
DTSTART;TZID=America/Los_Angeles:20250619T190000
DTEND;TZID=America/Los_Angeles:20250619T220000
DTSTAMP:20260424T082508
CREATED:20250619T021531Z
LAST-MODIFIED:20250619T021532Z
UID:10001547-1750359600-1750370400@contracostadems.com
SUMMARY:Canceled: General Membership Meeting
DESCRIPTION:Our membership meeting has been rescheduled for June 26. It will be virtual only.
URL:https://contracostadems.com/event/membership-meeting-11/
LOCATION:Zoom\, CA
CATEGORIES:Meetings
ATTACH;FMTTYPE=image/png:https://contracostadems.com/wp-content/uploads/2019/08/logoHiResTransparent-e1574965383959.png
END:VEVENT
BEGIN:VEVENT
DTSTART;TZID=America/Los_Angeles:20250628T080000
DTEND;TZID=America/Los_Angeles:20250628T170000
DTSTAMP:20260424T082508
CREATED:20250614T170335Z
LAST-MODIFIED:20250614T170335Z
UID:10004654-1751097600-1751130000@contracostadems.com
SUMMARY:Martinez Juneteenth Celebration
DESCRIPTION:Come celebrate Juneteenth in Martinez\, featuring live music from BUTTAH’s Jook Joint Show! \nDate: June 28th \nTime: 11 a.m. – 2 p.m. \nLocation: Martinez Waterfront Park \nLearn more about the celebration.
URL:https://contracostadems.com/event/martinez-juneteenth-celebration/
CATEGORIES:Community,Events
END:VEVENT
BEGIN:VEVENT
DTSTART;TZID=America/Los_Angeles:20250720T140000
DTEND;TZID=America/Los_Angeles:20250720T160000
DTSTAMP:20260424T082508
CREATED:20250713T054913Z
LAST-MODIFIED:20250713T054913Z
UID:10004664-1753020000-1753027200@contracostadems.com
SUMMARY:Marsh Creek Democratic Club General Meeting
DESCRIPTION:Guest Speaker Representative John Garamendi (CA 8) will join the club for their general meeting. You can attend in person or virtually! \nIn-person location:\n35 Oak St. 2nd Fl\nBrentwood\, CA \nRSVP at marshcreekdems@gmail.com for a Zoom link.
URL:https://contracostadems.com/event/marsh-creek-democratic-club-general-meeting/
CATEGORIES:Clubs,Meetings
ORGANIZER;CN="Marsh Creek Dems":MAILTO:marshcreekdems@gmail.com
END:VEVENT
BEGIN:VEVENT
DTSTART;TZID=America/Los_Angeles:20251218T190000
DTEND;TZID=America/Los_Angeles:20251218T213000
DTSTAMP:20260424T082508
CREATED:20251123T223314Z
LAST-MODIFIED:20251123T223530Z
UID:10004712-1766084400-1766093400@contracostadems.com
SUMMARY:Holiday Celebration
DESCRIPTION:We will spend our regularly scheduled membership meeting time in celebration for all we’ve accomplished this year! It will be an evening of gratitude. \nJoin us for our free Holiday Party\, December 18\, 7-9:30 p.m. at UA Local 342 in Concord. All you have to do is RSVP! \nIt will be a potluck\, and each person who brings food will be automatically entered to win $100! Sign up to bring your favorite dish when you RSVP. \nWe’ll also be collecting food for our neighbors. Bring nutritious\, non-perishable items for our neighbors. Donations will go to the Contra Costa Food Bank. \nThank you for your passion and dedication all year long!
URL:https://contracostadems.com/event/holiday-celebration/
LOCATION:UA Local 342\, 935 Detroit Avenue\, Concord\, CA\, United States
END:VEVENT
END:VCALENDAR