BEGIN:VCALENDAR
VERSION:2.0
PRODID:-//Democratic Party of Contra Costa County - ECPv6.15.20//NONSGML v1.0//EN
CALSCALE:GREGORIAN
METHOD:PUBLISH
X-ORIGINAL-URL:https://contracostadems.com
X-WR-CALDESC:Events for Democratic Party of Contra Costa County
REFRESH-INTERVAL;VALUE=DURATION:PT1H
X-Robots-Tag:noindex
X-PUBLISHED-TTL:PT1H
BEGIN:VTIMEZONE
TZID:America/Los_Angeles
BEGIN:DAYLIGHT
TZOFFSETFROM:-0800
TZOFFSETTO:-0700
TZNAME:PDT
DTSTART:20240310T100000
END:DAYLIGHT
BEGIN:STANDARD
TZOFFSETFROM:-0700
TZOFFSETTO:-0800
TZNAME:PST
DTSTART:20241103T090000
END:STANDARD
BEGIN:DAYLIGHT
TZOFFSETFROM:-0800
TZOFFSETTO:-0700
TZNAME:PDT
DTSTART:20250309T100000
END:DAYLIGHT
BEGIN:STANDARD
TZOFFSETFROM:-0700
TZOFFSETTO:-0800
TZNAME:PST
DTSTART:20251102T090000
END:STANDARD
BEGIN:DAYLIGHT
TZOFFSETFROM:-0800
TZOFFSETTO:-0700
TZNAME:PDT
DTSTART:20260308T100000
END:DAYLIGHT
BEGIN:STANDARD
TZOFFSETFROM:-0700
TZOFFSETTO:-0800
TZNAME:PST
DTSTART:20261101T090000
END:STANDARD
END:VTIMEZONE
BEGIN:VEVENT
DTSTART;TZID=America/Los_Angeles:20250828T190000
DTEND;TZID=America/Los_Angeles:20250828T200000
DTSTAMP:20260424T061104
CREATED:20250502T030833Z
LAST-MODIFIED:20251123T222906Z
UID:10004608-1756407600-1756411200@contracostadems.com
SUMMARY:Solidarity Gala Planning Committee
DESCRIPTION:Help us plan our annual Solidarity Gala!
URL:https://contracostadems.com/event/solidarity-gala-planning-committee/2025-08-28/
LOCATION:Zoom\, CA
CATEGORIES:Committees
END:VEVENT
BEGIN:VEVENT
DTSTART;TZID=America/Los_Angeles:20250828T190000
DTEND;TZID=America/Los_Angeles:20250828T210000
DTSTAMP:20260424T061104
CREATED:20220728T052632Z
LAST-MODIFIED:20240521T010441Z
UID:10002929-1756407600-1756414800@contracostadems.com
SUMMARY:Pittsburg Dems
DESCRIPTION:This is a local Democratic club chartered by DPCCC.
URL:https://contracostadems.com/event/pittsburg-dems/2025-08-28/
CATEGORIES:Clubs
END:VEVENT
BEGIN:VEVENT
DTSTART;TZID=America/Los_Angeles:20250828T190000
DTEND;TZID=America/Los_Angeles:20250828T210000
DTSTAMP:20260424T061104
CREATED:20231024T014048Z
LAST-MODIFIED:20231024T014049Z
UID:10003774-1756407600-1756414800@contracostadems.com
SUMMARY:San Ramon Valley Dems
DESCRIPTION:This is a local Democratic club chartered by DPCCC. For more information or for the Zoom link to join the meeting\, send an email to president@srvdems.org
URL:https://contracostadems.com/event/san-ramon-valley-dems-28/2025-08-28/
CATEGORIES:Clubs
ATTACH;FMTTYPE=image/jpeg:https://contracostadems.com/wp-content/uploads/2019/11/SRVDC-LOGO-cropped.jpeg
ORGANIZER;CN="San Ramon Valley Democratic Club":MAILTO:president@srvdems.org
END:VEVENT
BEGIN:VEVENT
DTSTART;TZID=America/Los_Angeles:20251218T190000
DTEND;TZID=America/Los_Angeles:20251218T213000
DTSTAMP:20260424T061104
CREATED:20251123T223314Z
LAST-MODIFIED:20251123T223530Z
UID:10004712-1766084400-1766093400@contracostadems.com
SUMMARY:Holiday Celebration
DESCRIPTION:We will spend our regularly scheduled membership meeting time in celebration for all we’ve accomplished this year! It will be an evening of gratitude. \nJoin us for our free Holiday Party\, December 18\, 7-9:30 p.m. at UA Local 342 in Concord. All you have to do is RSVP! \nIt will be a potluck\, and each person who brings food will be automatically entered to win $100! Sign up to bring your favorite dish when you RSVP. \nWe’ll also be collecting food for our neighbors. Bring nutritious\, non-perishable items for our neighbors. Donations will go to the Contra Costa Food Bank. \nThank you for your passion and dedication all year long!
URL:https://contracostadems.com/event/holiday-celebration/
LOCATION:UA Local 342\, 935 Detroit Avenue\, Concord\, CA\, United States
END:VEVENT
END:VCALENDAR