BEGIN:VCALENDAR
VERSION:2.0
PRODID:-//Democratic Party of Contra Costa County - ECPv6.15.20//NONSGML v1.0//EN
CALSCALE:GREGORIAN
METHOD:PUBLISH
X-ORIGINAL-URL:https://contracostadems.com
X-WR-CALDESC:Events for Democratic Party of Contra Costa County
REFRESH-INTERVAL;VALUE=DURATION:PT1H
X-Robots-Tag:noindex
X-PUBLISHED-TTL:PT1H
BEGIN:VTIMEZONE
TZID:America/Los_Angeles
BEGIN:DAYLIGHT
TZOFFSETFROM:-0800
TZOFFSETTO:-0700
TZNAME:PDT
DTSTART:20240310T100000
END:DAYLIGHT
BEGIN:STANDARD
TZOFFSETFROM:-0700
TZOFFSETTO:-0800
TZNAME:PST
DTSTART:20241103T090000
END:STANDARD
BEGIN:DAYLIGHT
TZOFFSETFROM:-0800
TZOFFSETTO:-0700
TZNAME:PDT
DTSTART:20250309T100000
END:DAYLIGHT
BEGIN:STANDARD
TZOFFSETFROM:-0700
TZOFFSETTO:-0800
TZNAME:PST
DTSTART:20251102T090000
END:STANDARD
BEGIN:DAYLIGHT
TZOFFSETFROM:-0800
TZOFFSETTO:-0700
TZNAME:PDT
DTSTART:20260308T100000
END:DAYLIGHT
BEGIN:STANDARD
TZOFFSETFROM:-0700
TZOFFSETTO:-0800
TZNAME:PST
DTSTART:20261101T090000
END:STANDARD
END:VTIMEZONE
BEGIN:VEVENT
DTSTART;TZID=America/Los_Angeles:20251204T190000
DTEND;TZID=America/Los_Angeles:20251204T210000
DTSTAMP:20260423T134554
CREATED:20240702T034404Z
LAST-MODIFIED:20240702T034810Z
UID:10004252-1764874800-1764882000@contracostadems.com
SUMMARY:Executive Committee
DESCRIPTION:The DPCCC Executive Committee Meeting is open to observers who are members of the Democratic Party of Contra Costa County.\nAll Leadership Team Members will receive agendas 7 days before the meeting by email.\nFor information send email to secretary@contracostadems.com.
URL:https://contracostadems.com/event/executive-committee-10/2025-12-04/
LOCATION:CA
CATEGORIES:Committees
ATTACH;FMTTYPE=image/svg+xml:https://contracostadems.com/wp-content/uploads/2020/01/logoHiResTransparent-1.svg
END:VEVENT
BEGIN:VEVENT
DTSTART;TZID=America/Los_Angeles:20251208T173000
DTEND;TZID=America/Los_Angeles:20251208T190000
DTSTAMP:20260423T134555
CREATED:20230710T202022Z
LAST-MODIFIED:20240528T045103Z
UID:10002832-1765215000-1765220400@contracostadems.com
SUMMARY:Training Committee
DESCRIPTION:For details\, email the Training Committee Chair\, Cheryl Sudduth\, at training@contracostadems.com.
URL:https://contracostadems.com/event/training-committee-meeting/2025-12-08/
LOCATION:CA\, United States
CATEGORIES:Committees
END:VEVENT
BEGIN:VEVENT
DTSTART;TZID=America/Los_Angeles:20251208T190000
DTEND;TZID=America/Los_Angeles:20251208T210000
DTSTAMP:20260423T134555
CREATED:20230922T041053Z
LAST-MODIFIED:20240528T043056Z
UID:10004088-1765220400-1765227600@contracostadems.com
SUMMARY:Rules Committee
DESCRIPTION:To attend\, contact Jeff Koertzen at jeff@jeffkoertzen.com
URL:https://contracostadems.com/event/rules-committee-27/2025-12-08/
LOCATION:Zoom\, CA
CATEGORIES:Committees
END:VEVENT
BEGIN:VEVENT
DTSTART;TZID=America/Los_Angeles:20251209T180000
DTEND;TZID=America/Los_Angeles:20251209T193000
DTSTAMP:20260423T134555
CREATED:20240330T171751Z
LAST-MODIFIED:20240331T185205Z
UID:10003995-1765303200-1765308600@contracostadems.com
SUMMARY:West County Dems
DESCRIPTION:This is a local Democratic club chartered by DPCCC. Meetings are via Zoom. \nhttps://us02web.zoom.us/j/83146226722?pwd=cHRneSsxYkVnWWdTcTNQRnBBTmhzdz09 \nFor more info\, contact the club. https://www.westcountydemocraticclub.com
URL:https://contracostadems.com/event/west-county-dems-10-2/2025-12-09/
LOCATION:CA
CATEGORIES:Clubs
ATTACH;FMTTYPE=image/png:https://contracostadems.com/wp-content/uploads/2023/09/WestCountyDemClub.png
END:VEVENT
BEGIN:VEVENT
DTSTART;TZID=America/Los_Angeles:20251215T183000
DTEND;TZID=America/Los_Angeles:20251215T200000
DTSTAMP:20260423T134555
CREATED:20220728T052633Z
LAST-MODIFIED:20240528T052553Z
UID:10003231-1765823400-1765828800@contracostadems.com
SUMMARY:Delta Democratic Club
DESCRIPTION:This is an East County Democratic Club chartered by DPCCC. For information about meeting location\, contact us at https://www.deltademocrats.org/
URL:https://contracostadems.com/event/delta-democratic-club-meetings/2025-12-15/
LOCATION:CA
CATEGORIES:Clubs
ATTACH;FMTTYPE=image/jpeg:https://contracostadems.com/wp-content/uploads/2022/07/DeltaDemslogo2022.jpg
END:VEVENT
BEGIN:VEVENT
DTSTART;TZID=America/Los_Angeles:20251218T190000
DTEND;TZID=America/Los_Angeles:20251218T213000
DTSTAMP:20260423T134555
CREATED:20251123T223314Z
LAST-MODIFIED:20251123T223530Z
UID:10004712-1766084400-1766093400@contracostadems.com
SUMMARY:Holiday Celebration
DESCRIPTION:We will spend our regularly scheduled membership meeting time in celebration for all we’ve accomplished this year! It will be an evening of gratitude. \nJoin us for our free Holiday Party\, December 18\, 7-9:30 p.m. at UA Local 342 in Concord. All you have to do is RSVP! \nIt will be a potluck\, and each person who brings food will be automatically entered to win $100! Sign up to bring your favorite dish when you RSVP. \nWe’ll also be collecting food for our neighbors. Bring nutritious\, non-perishable items for our neighbors. Donations will go to the Contra Costa Food Bank. \nThank you for your passion and dedication all year long!
URL:https://contracostadems.com/event/holiday-celebration/
LOCATION:UA Local 342\, 935 Detroit Avenue\, Concord\, CA\, United States
END:VEVENT
BEGIN:VEVENT
DTSTART;TZID=America/Los_Angeles:20251222T183000
DTEND;TZID=America/Los_Angeles:20251222T203000
DTSTAMP:20260423T134555
CREATED:20250213T015018Z
LAST-MODIFIED:20250213T015018Z
UID:10004460-1766428200-1766435400@contracostadems.com
SUMMARY:Diablo Valley Dems Club
DESCRIPTION:Hybrid meetings for the club. Check out our website for the Zoom link and agenda.
URL:https://contracostadems.com/event/diablo-valley-dems-club/2025-12-22/
LOCATION:Ygnacio Valley Library\, 2661 Oak Grove Rd.\, Walnut Creek\, CA\, 94598\, United States
END:VEVENT
BEGIN:VEVENT
DTSTART;TZID=America/Los_Angeles:20251223T183000
DTEND;TZID=America/Los_Angeles:20251223T203000
DTSTAMP:20260423T134555
CREATED:20220728T052633Z
LAST-MODIFIED:20231021T233229Z
UID:10003275-1766514600-1766521800@contracostadems.com
SUMMARY:El Cerrito Dems
DESCRIPTION:This is a local Democratic club chartered by DPCCC. For more info\, contact the club. https://ecdclub.org/club-meetings/
URL:https://contracostadems.com/event/el-cerrito-dems/2025-12-23/
LOCATION:Hana Gardens Senior Center\, 10870 San Pablo Avenue\, El Cerrito\, 94530\, United States
CATEGORIES:Clubs
ATTACH;FMTTYPE=image/png:https://contracostadems.com/wp-content/uploads/2020/08/Artboard-16-1.png
ORGANIZER;CN="El Cerrito Democratic Club":MAILTO:ecdc.pres@gmail.com
END:VEVENT
BEGIN:VEVENT
DTSTART;TZID=America/Los_Angeles:20251225T190000
DTEND;TZID=America/Los_Angeles:20251225T210000
DTSTAMP:20260423T134555
CREATED:20220728T052632Z
LAST-MODIFIED:20240521T010441Z
UID:10002933-1766689200-1766696400@contracostadems.com
SUMMARY:Pittsburg Dems
DESCRIPTION:This is a local Democratic club chartered by DPCCC.
URL:https://contracostadems.com/event/pittsburg-dems/2025-12-25/
LOCATION:CA
CATEGORIES:Clubs
END:VEVENT
BEGIN:VEVENT
DTSTART;TZID=America/Los_Angeles:20251225T190000
DTEND;TZID=America/Los_Angeles:20251225T210000
DTSTAMP:20260423T134555
CREATED:20231024T014048Z
LAST-MODIFIED:20231024T014049Z
UID:10003778-1766689200-1766696400@contracostadems.com
SUMMARY:San Ramon Valley Dems
DESCRIPTION:This is a local Democratic club chartered by DPCCC. For more information or for the Zoom link to join the meeting\, send an email to president@srvdems.org
URL:https://contracostadems.com/event/san-ramon-valley-dems-28/2025-12-25/
LOCATION:CA
CATEGORIES:Clubs
ATTACH;FMTTYPE=image/jpeg:https://contracostadems.com/wp-content/uploads/2019/11/SRVDC-LOGO-cropped.jpeg
ORGANIZER;CN="San Ramon Valley Democratic Club":MAILTO:president@srvdems.org
END:VEVENT
END:VCALENDAR