BEGIN:VCALENDAR
VERSION:2.0
PRODID:-//Democratic Party of Contra Costa County - ECPv6.15.20//NONSGML v1.0//EN
CALSCALE:GREGORIAN
METHOD:PUBLISH
X-WR-CALNAME:Democratic Party of Contra Costa County
X-ORIGINAL-URL:https://contracostadems.com
X-WR-CALDESC:Events for Democratic Party of Contra Costa County
REFRESH-INTERVAL;VALUE=DURATION:PT1H
X-Robots-Tag:noindex
X-PUBLISHED-TTL:PT1H
BEGIN:VTIMEZONE
TZID:America/Los_Angeles
BEGIN:DAYLIGHT
TZOFFSETFROM:-0800
TZOFFSETTO:-0700
TZNAME:PDT
DTSTART:20260308T100000
END:DAYLIGHT
BEGIN:STANDARD
TZOFFSETFROM:-0700
TZOFFSETTO:-0800
TZNAME:PST
DTSTART:20261101T090000
END:STANDARD
BEGIN:DAYLIGHT
TZOFFSETFROM:-0800
TZOFFSETTO:-0700
TZNAME:PDT
DTSTART:20270314T100000
END:DAYLIGHT
BEGIN:STANDARD
TZOFFSETFROM:-0700
TZOFFSETTO:-0800
TZNAME:PST
DTSTART:20271107T090000
END:STANDARD
BEGIN:DAYLIGHT
TZOFFSETFROM:-0800
TZOFFSETTO:-0700
TZNAME:PDT
DTSTART:20280312T100000
END:DAYLIGHT
BEGIN:STANDARD
TZOFFSETFROM:-0700
TZOFFSETTO:-0800
TZNAME:PST
DTSTART:20281105T090000
END:STANDARD
BEGIN:DAYLIGHT
TZOFFSETFROM:-0800
TZOFFSETTO:-0700
TZNAME:PDT
DTSTART:20290311T100000
END:DAYLIGHT
BEGIN:STANDARD
TZOFFSETFROM:-0700
TZOFFSETTO:-0800
TZNAME:PST
DTSTART:20291104T090000
END:STANDARD
BEGIN:DAYLIGHT
TZOFFSETFROM:-0800
TZOFFSETTO:-0700
TZNAME:PDT
DTSTART:20300310T100000
END:DAYLIGHT
BEGIN:STANDARD
TZOFFSETFROM:-0700
TZOFFSETTO:-0800
TZNAME:PST
DTSTART:20301103T090000
END:STANDARD
END:VTIMEZONE
BEGIN:VEVENT
DTSTART;TZID=America/Los_Angeles:20270225T190000
DTEND;TZID=America/Los_Angeles:20270225T210000
DTSTAMP:20260423T092718
CREATED:20231024T014048Z
LAST-MODIFIED:20231024T014049Z
UID:10003792-1803582000-1803589200@contracostadems.com
SUMMARY:San Ramon Valley Dems
DESCRIPTION:This is a local Democratic club chartered by DPCCC. For more information or for the Zoom link to join the meeting\, send an email to president@srvdems.org
URL:https://contracostadems.com/event/san-ramon-valley-dems-28/2027-02-25/
CATEGORIES:Clubs
ATTACH;FMTTYPE=image/jpeg:https://contracostadems.com/wp-content/uploads/2019/11/SRVDC-LOGO-cropped.jpeg
ORGANIZER;CN="San Ramon Valley Democratic Club":MAILTO:president@srvdems.org
END:VEVENT
BEGIN:VEVENT
DTSTART;TZID=America/Los_Angeles:20270325T190000
DTEND;TZID=America/Los_Angeles:20270325T210000
DTSTAMP:20260423T092718
CREATED:20231024T014048Z
LAST-MODIFIED:20231024T014049Z
UID:10003793-1806001200-1806008400@contracostadems.com
SUMMARY:San Ramon Valley Dems
DESCRIPTION:This is a local Democratic club chartered by DPCCC. For more information or for the Zoom link to join the meeting\, send an email to president@srvdems.org
URL:https://contracostadems.com/event/san-ramon-valley-dems-28/2027-03-25/
CATEGORIES:Clubs
ATTACH;FMTTYPE=image/jpeg:https://contracostadems.com/wp-content/uploads/2019/11/SRVDC-LOGO-cropped.jpeg
ORGANIZER;CN="San Ramon Valley Democratic Club":MAILTO:president@srvdems.org
END:VEVENT
BEGIN:VEVENT
DTSTART;TZID=America/Los_Angeles:20270422T190000
DTEND;TZID=America/Los_Angeles:20270422T210000
DTSTAMP:20260423T092718
CREATED:20231024T014048Z
LAST-MODIFIED:20231024T014049Z
UID:10003794-1808420400-1808427600@contracostadems.com
SUMMARY:San Ramon Valley Dems
DESCRIPTION:This is a local Democratic club chartered by DPCCC. For more information or for the Zoom link to join the meeting\, send an email to president@srvdems.org
URL:https://contracostadems.com/event/san-ramon-valley-dems-28/2027-04-22/
CATEGORIES:Clubs
ATTACH;FMTTYPE=image/jpeg:https://contracostadems.com/wp-content/uploads/2019/11/SRVDC-LOGO-cropped.jpeg
ORGANIZER;CN="San Ramon Valley Democratic Club":MAILTO:president@srvdems.org
END:VEVENT
BEGIN:VEVENT
DTSTART;TZID=America/Los_Angeles:20270527T190000
DTEND;TZID=America/Los_Angeles:20270527T210000
DTSTAMP:20260423T092718
CREATED:20231024T014048Z
LAST-MODIFIED:20231024T014049Z
UID:10003795-1811444400-1811451600@contracostadems.com
SUMMARY:San Ramon Valley Dems
DESCRIPTION:This is a local Democratic club chartered by DPCCC. For more information or for the Zoom link to join the meeting\, send an email to president@srvdems.org
URL:https://contracostadems.com/event/san-ramon-valley-dems-28/2027-05-27/
CATEGORIES:Clubs
ATTACH;FMTTYPE=image/jpeg:https://contracostadems.com/wp-content/uploads/2019/11/SRVDC-LOGO-cropped.jpeg
ORGANIZER;CN="San Ramon Valley Democratic Club":MAILTO:president@srvdems.org
END:VEVENT
BEGIN:VEVENT
DTSTART;TZID=America/Los_Angeles:20270624T190000
DTEND;TZID=America/Los_Angeles:20270624T210000
DTSTAMP:20260423T092718
CREATED:20231024T014048Z
LAST-MODIFIED:20231024T014049Z
UID:10003796-1813863600-1813870800@contracostadems.com
SUMMARY:San Ramon Valley Dems
DESCRIPTION:This is a local Democratic club chartered by DPCCC. For more information or for the Zoom link to join the meeting\, send an email to president@srvdems.org
URL:https://contracostadems.com/event/san-ramon-valley-dems-28/2027-06-24/
CATEGORIES:Clubs
ATTACH;FMTTYPE=image/jpeg:https://contracostadems.com/wp-content/uploads/2019/11/SRVDC-LOGO-cropped.jpeg
ORGANIZER;CN="San Ramon Valley Democratic Club":MAILTO:president@srvdems.org
END:VEVENT
BEGIN:VEVENT
DTSTART;TZID=America/Los_Angeles:20270722T190000
DTEND;TZID=America/Los_Angeles:20270722T210000
DTSTAMP:20260423T092718
CREATED:20231024T014048Z
LAST-MODIFIED:20231024T014049Z
UID:10003797-1816282800-1816290000@contracostadems.com
SUMMARY:San Ramon Valley Dems
DESCRIPTION:This is a local Democratic club chartered by DPCCC. For more information or for the Zoom link to join the meeting\, send an email to president@srvdems.org
URL:https://contracostadems.com/event/san-ramon-valley-dems-28/2027-07-22/
CATEGORIES:Clubs
ATTACH;FMTTYPE=image/jpeg:https://contracostadems.com/wp-content/uploads/2019/11/SRVDC-LOGO-cropped.jpeg
ORGANIZER;CN="San Ramon Valley Democratic Club":MAILTO:president@srvdems.org
END:VEVENT
BEGIN:VEVENT
DTSTART;TZID=America/Los_Angeles:20270826T190000
DTEND;TZID=America/Los_Angeles:20270826T210000
DTSTAMP:20260423T092718
CREATED:20231024T014048Z
LAST-MODIFIED:20231024T014049Z
UID:10003798-1819306800-1819314000@contracostadems.com
SUMMARY:San Ramon Valley Dems
DESCRIPTION:This is a local Democratic club chartered by DPCCC. For more information or for the Zoom link to join the meeting\, send an email to president@srvdems.org
URL:https://contracostadems.com/event/san-ramon-valley-dems-28/2027-08-26/
CATEGORIES:Clubs
ATTACH;FMTTYPE=image/jpeg:https://contracostadems.com/wp-content/uploads/2019/11/SRVDC-LOGO-cropped.jpeg
ORGANIZER;CN="San Ramon Valley Democratic Club":MAILTO:president@srvdems.org
END:VEVENT
BEGIN:VEVENT
DTSTART;TZID=America/Los_Angeles:20270923T190000
DTEND;TZID=America/Los_Angeles:20270923T210000
DTSTAMP:20260423T092718
CREATED:20231024T014048Z
LAST-MODIFIED:20231024T014049Z
UID:10003799-1821726000-1821733200@contracostadems.com
SUMMARY:San Ramon Valley Dems
DESCRIPTION:This is a local Democratic club chartered by DPCCC. For more information or for the Zoom link to join the meeting\, send an email to president@srvdems.org
URL:https://contracostadems.com/event/san-ramon-valley-dems-28/2027-09-23/
CATEGORIES:Clubs
ATTACH;FMTTYPE=image/jpeg:https://contracostadems.com/wp-content/uploads/2019/11/SRVDC-LOGO-cropped.jpeg
ORGANIZER;CN="San Ramon Valley Democratic Club":MAILTO:president@srvdems.org
END:VEVENT
BEGIN:VEVENT
DTSTART;TZID=America/Los_Angeles:20271028T190000
DTEND;TZID=America/Los_Angeles:20271028T210000
DTSTAMP:20260423T092718
CREATED:20231024T014048Z
LAST-MODIFIED:20231024T014049Z
UID:10003800-1824750000-1824757200@contracostadems.com
SUMMARY:San Ramon Valley Dems
DESCRIPTION:This is a local Democratic club chartered by DPCCC. For more information or for the Zoom link to join the meeting\, send an email to president@srvdems.org
URL:https://contracostadems.com/event/san-ramon-valley-dems-28/2027-10-28/
CATEGORIES:Clubs
ATTACH;FMTTYPE=image/jpeg:https://contracostadems.com/wp-content/uploads/2019/11/SRVDC-LOGO-cropped.jpeg
ORGANIZER;CN="San Ramon Valley Democratic Club":MAILTO:president@srvdems.org
END:VEVENT
BEGIN:VEVENT
DTSTART;TZID=America/Los_Angeles:20271125T190000
DTEND;TZID=America/Los_Angeles:20271125T210000
DTSTAMP:20260423T092718
CREATED:20231024T014048Z
LAST-MODIFIED:20231024T014049Z
UID:10003801-1827169200-1827176400@contracostadems.com
SUMMARY:San Ramon Valley Dems
DESCRIPTION:This is a local Democratic club chartered by DPCCC. For more information or for the Zoom link to join the meeting\, send an email to president@srvdems.org
URL:https://contracostadems.com/event/san-ramon-valley-dems-28/2027-11-25/
CATEGORIES:Clubs
ATTACH;FMTTYPE=image/jpeg:https://contracostadems.com/wp-content/uploads/2019/11/SRVDC-LOGO-cropped.jpeg
ORGANIZER;CN="San Ramon Valley Democratic Club":MAILTO:president@srvdems.org
END:VEVENT
BEGIN:VEVENT
DTSTART;TZID=America/Los_Angeles:20271223T190000
DTEND;TZID=America/Los_Angeles:20271223T210000
DTSTAMP:20260423T092718
CREATED:20231024T014048Z
LAST-MODIFIED:20231024T014049Z
UID:10003802-1829588400-1829595600@contracostadems.com
SUMMARY:San Ramon Valley Dems
DESCRIPTION:This is a local Democratic club chartered by DPCCC. For more information or for the Zoom link to join the meeting\, send an email to president@srvdems.org
URL:https://contracostadems.com/event/san-ramon-valley-dems-28/2027-12-23/
CATEGORIES:Clubs
ATTACH;FMTTYPE=image/jpeg:https://contracostadems.com/wp-content/uploads/2019/11/SRVDC-LOGO-cropped.jpeg
ORGANIZER;CN="San Ramon Valley Democratic Club":MAILTO:president@srvdems.org
END:VEVENT
BEGIN:VEVENT
DTSTART;TZID=America/Los_Angeles:20280127T190000
DTEND;TZID=America/Los_Angeles:20280127T210000
DTSTAMP:20260423T092718
CREATED:20231024T014048Z
LAST-MODIFIED:20231024T014049Z
UID:10003803-1832612400-1832619600@contracostadems.com
SUMMARY:San Ramon Valley Dems
DESCRIPTION:This is a local Democratic club chartered by DPCCC. For more information or for the Zoom link to join the meeting\, send an email to president@srvdems.org
URL:https://contracostadems.com/event/san-ramon-valley-dems-28/2028-01-27/
CATEGORIES:Clubs
ATTACH;FMTTYPE=image/jpeg:https://contracostadems.com/wp-content/uploads/2019/11/SRVDC-LOGO-cropped.jpeg
ORGANIZER;CN="San Ramon Valley Democratic Club":MAILTO:president@srvdems.org
END:VEVENT
BEGIN:VEVENT
DTSTART;TZID=America/Los_Angeles:20280224T190000
DTEND;TZID=America/Los_Angeles:20280224T210000
DTSTAMP:20260423T092718
CREATED:20231024T014048Z
LAST-MODIFIED:20231024T014049Z
UID:10003804-1835031600-1835038800@contracostadems.com
SUMMARY:San Ramon Valley Dems
DESCRIPTION:This is a local Democratic club chartered by DPCCC. For more information or for the Zoom link to join the meeting\, send an email to president@srvdems.org
URL:https://contracostadems.com/event/san-ramon-valley-dems-28/2028-02-24/
CATEGORIES:Clubs
ATTACH;FMTTYPE=image/jpeg:https://contracostadems.com/wp-content/uploads/2019/11/SRVDC-LOGO-cropped.jpeg
ORGANIZER;CN="San Ramon Valley Democratic Club":MAILTO:president@srvdems.org
END:VEVENT
BEGIN:VEVENT
DTSTART;TZID=America/Los_Angeles:20280323T190000
DTEND;TZID=America/Los_Angeles:20280323T210000
DTSTAMP:20260423T092718
CREATED:20231024T014048Z
LAST-MODIFIED:20231024T014049Z
UID:10003805-1837450800-1837458000@contracostadems.com
SUMMARY:San Ramon Valley Dems
DESCRIPTION:This is a local Democratic club chartered by DPCCC. For more information or for the Zoom link to join the meeting\, send an email to president@srvdems.org
URL:https://contracostadems.com/event/san-ramon-valley-dems-28/2028-03-23/
CATEGORIES:Clubs
ATTACH;FMTTYPE=image/jpeg:https://contracostadems.com/wp-content/uploads/2019/11/SRVDC-LOGO-cropped.jpeg
ORGANIZER;CN="San Ramon Valley Democratic Club":MAILTO:president@srvdems.org
END:VEVENT
BEGIN:VEVENT
DTSTART;TZID=America/Los_Angeles:20280427T190000
DTEND;TZID=America/Los_Angeles:20280427T210000
DTSTAMP:20260423T092718
CREATED:20231024T014048Z
LAST-MODIFIED:20231024T014049Z
UID:10003806-1840474800-1840482000@contracostadems.com
SUMMARY:San Ramon Valley Dems
DESCRIPTION:This is a local Democratic club chartered by DPCCC. For more information or for the Zoom link to join the meeting\, send an email to president@srvdems.org
URL:https://contracostadems.com/event/san-ramon-valley-dems-28/2028-04-27/
CATEGORIES:Clubs
ATTACH;FMTTYPE=image/jpeg:https://contracostadems.com/wp-content/uploads/2019/11/SRVDC-LOGO-cropped.jpeg
ORGANIZER;CN="San Ramon Valley Democratic Club":MAILTO:president@srvdems.org
END:VEVENT
BEGIN:VEVENT
DTSTART;TZID=America/Los_Angeles:20280525T190000
DTEND;TZID=America/Los_Angeles:20280525T210000
DTSTAMP:20260423T092718
CREATED:20231024T014048Z
LAST-MODIFIED:20231024T014049Z
UID:10003807-1842894000-1842901200@contracostadems.com
SUMMARY:San Ramon Valley Dems
DESCRIPTION:This is a local Democratic club chartered by DPCCC. For more information or for the Zoom link to join the meeting\, send an email to president@srvdems.org
URL:https://contracostadems.com/event/san-ramon-valley-dems-28/2028-05-25/
CATEGORIES:Clubs
ATTACH;FMTTYPE=image/jpeg:https://contracostadems.com/wp-content/uploads/2019/11/SRVDC-LOGO-cropped.jpeg
ORGANIZER;CN="San Ramon Valley Democratic Club":MAILTO:president@srvdems.org
END:VEVENT
BEGIN:VEVENT
DTSTART;TZID=America/Los_Angeles:20280622T190000
DTEND;TZID=America/Los_Angeles:20280622T210000
DTSTAMP:20260423T092718
CREATED:20231024T014048Z
LAST-MODIFIED:20231024T014049Z
UID:10003808-1845313200-1845320400@contracostadems.com
SUMMARY:San Ramon Valley Dems
DESCRIPTION:This is a local Democratic club chartered by DPCCC. For more information or for the Zoom link to join the meeting\, send an email to president@srvdems.org
URL:https://contracostadems.com/event/san-ramon-valley-dems-28/2028-06-22/
CATEGORIES:Clubs
ATTACH;FMTTYPE=image/jpeg:https://contracostadems.com/wp-content/uploads/2019/11/SRVDC-LOGO-cropped.jpeg
ORGANIZER;CN="San Ramon Valley Democratic Club":MAILTO:president@srvdems.org
END:VEVENT
BEGIN:VEVENT
DTSTART;TZID=America/Los_Angeles:20280727T190000
DTEND;TZID=America/Los_Angeles:20280727T210000
DTSTAMP:20260423T092718
CREATED:20231024T014048Z
LAST-MODIFIED:20231024T014049Z
UID:10003809-1848337200-1848344400@contracostadems.com
SUMMARY:San Ramon Valley Dems
DESCRIPTION:This is a local Democratic club chartered by DPCCC. For more information or for the Zoom link to join the meeting\, send an email to president@srvdems.org
URL:https://contracostadems.com/event/san-ramon-valley-dems-28/2028-07-27/
CATEGORIES:Clubs
ATTACH;FMTTYPE=image/jpeg:https://contracostadems.com/wp-content/uploads/2019/11/SRVDC-LOGO-cropped.jpeg
ORGANIZER;CN="San Ramon Valley Democratic Club":MAILTO:president@srvdems.org
END:VEVENT
BEGIN:VEVENT
DTSTART;TZID=America/Los_Angeles:20280824T190000
DTEND;TZID=America/Los_Angeles:20280824T210000
DTSTAMP:20260423T092718
CREATED:20231024T014048Z
LAST-MODIFIED:20231024T014049Z
UID:10003810-1850756400-1850763600@contracostadems.com
SUMMARY:San Ramon Valley Dems
DESCRIPTION:This is a local Democratic club chartered by DPCCC. For more information or for the Zoom link to join the meeting\, send an email to president@srvdems.org
URL:https://contracostadems.com/event/san-ramon-valley-dems-28/2028-08-24/
CATEGORIES:Clubs
ATTACH;FMTTYPE=image/jpeg:https://contracostadems.com/wp-content/uploads/2019/11/SRVDC-LOGO-cropped.jpeg
ORGANIZER;CN="San Ramon Valley Democratic Club":MAILTO:president@srvdems.org
END:VEVENT
BEGIN:VEVENT
DTSTART;TZID=America/Los_Angeles:20280928T190000
DTEND;TZID=America/Los_Angeles:20280928T210000
DTSTAMP:20260423T092718
CREATED:20231024T014048Z
LAST-MODIFIED:20231024T014049Z
UID:10003811-1853780400-1853787600@contracostadems.com
SUMMARY:San Ramon Valley Dems
DESCRIPTION:This is a local Democratic club chartered by DPCCC. For more information or for the Zoom link to join the meeting\, send an email to president@srvdems.org
URL:https://contracostadems.com/event/san-ramon-valley-dems-28/2028-09-28/
CATEGORIES:Clubs
ATTACH;FMTTYPE=image/jpeg:https://contracostadems.com/wp-content/uploads/2019/11/SRVDC-LOGO-cropped.jpeg
ORGANIZER;CN="San Ramon Valley Democratic Club":MAILTO:president@srvdems.org
END:VEVENT
BEGIN:VEVENT
DTSTART;TZID=America/Los_Angeles:20281026T190000
DTEND;TZID=America/Los_Angeles:20281026T210000
DTSTAMP:20260423T092718
CREATED:20231024T014048Z
LAST-MODIFIED:20231024T014049Z
UID:10004533-1856199600-1856206800@contracostadems.com
SUMMARY:San Ramon Valley Dems
DESCRIPTION:This is a local Democratic club chartered by DPCCC. For more information or for the Zoom link to join the meeting\, send an email to president@srvdems.org
URL:https://contracostadems.com/event/san-ramon-valley-dems-28/2028-10-26/
CATEGORIES:Clubs
ATTACH;FMTTYPE=image/jpeg:https://contracostadems.com/wp-content/uploads/2019/11/SRVDC-LOGO-cropped.jpeg
ORGANIZER;CN="San Ramon Valley Democratic Club":MAILTO:president@srvdems.org
END:VEVENT
BEGIN:VEVENT
DTSTART;TZID=America/Los_Angeles:20281123T190000
DTEND;TZID=America/Los_Angeles:20281123T210000
DTSTAMP:20260423T092718
CREATED:20231024T014048Z
LAST-MODIFIED:20231024T014049Z
UID:10004534-1858618800-1858626000@contracostadems.com
SUMMARY:San Ramon Valley Dems
DESCRIPTION:This is a local Democratic club chartered by DPCCC. For more information or for the Zoom link to join the meeting\, send an email to president@srvdems.org
URL:https://contracostadems.com/event/san-ramon-valley-dems-28/2028-11-23/
CATEGORIES:Clubs
ATTACH;FMTTYPE=image/jpeg:https://contracostadems.com/wp-content/uploads/2019/11/SRVDC-LOGO-cropped.jpeg
ORGANIZER;CN="San Ramon Valley Democratic Club":MAILTO:president@srvdems.org
END:VEVENT
BEGIN:VEVENT
DTSTART;TZID=America/Los_Angeles:20281228T190000
DTEND;TZID=America/Los_Angeles:20281228T210000
DTSTAMP:20260423T092718
CREATED:20231024T014048Z
LAST-MODIFIED:20231024T014049Z
UID:10004535-1861642800-1861650000@contracostadems.com
SUMMARY:San Ramon Valley Dems
DESCRIPTION:This is a local Democratic club chartered by DPCCC. For more information or for the Zoom link to join the meeting\, send an email to president@srvdems.org
URL:https://contracostadems.com/event/san-ramon-valley-dems-28/2028-12-28/
CATEGORIES:Clubs
ATTACH;FMTTYPE=image/jpeg:https://contracostadems.com/wp-content/uploads/2019/11/SRVDC-LOGO-cropped.jpeg
ORGANIZER;CN="San Ramon Valley Democratic Club":MAILTO:president@srvdems.org
END:VEVENT
BEGIN:VEVENT
DTSTART;TZID=America/Los_Angeles:20290125T190000
DTEND;TZID=America/Los_Angeles:20290125T210000
DTSTAMP:20260423T092718
CREATED:20231024T014048Z
LAST-MODIFIED:20231024T014049Z
UID:10004536-1864062000-1864069200@contracostadems.com
SUMMARY:San Ramon Valley Dems
DESCRIPTION:This is a local Democratic club chartered by DPCCC. For more information or for the Zoom link to join the meeting\, send an email to president@srvdems.org
URL:https://contracostadems.com/event/san-ramon-valley-dems-28/2029-01-25/
CATEGORIES:Clubs
ATTACH;FMTTYPE=image/jpeg:https://contracostadems.com/wp-content/uploads/2019/11/SRVDC-LOGO-cropped.jpeg
ORGANIZER;CN="San Ramon Valley Democratic Club":MAILTO:president@srvdems.org
END:VEVENT
BEGIN:VEVENT
DTSTART;TZID=America/Los_Angeles:20290222T190000
DTEND;TZID=America/Los_Angeles:20290222T210000
DTSTAMP:20260423T092718
CREATED:20231024T014048Z
LAST-MODIFIED:20231024T014049Z
UID:10004537-1866481200-1866488400@contracostadems.com
SUMMARY:San Ramon Valley Dems
DESCRIPTION:This is a local Democratic club chartered by DPCCC. For more information or for the Zoom link to join the meeting\, send an email to president@srvdems.org
URL:https://contracostadems.com/event/san-ramon-valley-dems-28/2029-02-22/
CATEGORIES:Clubs
ATTACH;FMTTYPE=image/jpeg:https://contracostadems.com/wp-content/uploads/2019/11/SRVDC-LOGO-cropped.jpeg
ORGANIZER;CN="San Ramon Valley Democratic Club":MAILTO:president@srvdems.org
END:VEVENT
BEGIN:VEVENT
DTSTART;TZID=America/Los_Angeles:20290322T190000
DTEND;TZID=America/Los_Angeles:20290322T210000
DTSTAMP:20260423T092718
CREATED:20231024T014048Z
LAST-MODIFIED:20231024T014049Z
UID:10004538-1868900400-1868907600@contracostadems.com
SUMMARY:San Ramon Valley Dems
DESCRIPTION:This is a local Democratic club chartered by DPCCC. For more information or for the Zoom link to join the meeting\, send an email to president@srvdems.org
URL:https://contracostadems.com/event/san-ramon-valley-dems-28/2029-03-22/
CATEGORIES:Clubs
ATTACH;FMTTYPE=image/jpeg:https://contracostadems.com/wp-content/uploads/2019/11/SRVDC-LOGO-cropped.jpeg
ORGANIZER;CN="San Ramon Valley Democratic Club":MAILTO:president@srvdems.org
END:VEVENT
BEGIN:VEVENT
DTSTART;TZID=America/Los_Angeles:20290426T190000
DTEND;TZID=America/Los_Angeles:20290426T210000
DTSTAMP:20260423T092718
CREATED:20231024T014048Z
LAST-MODIFIED:20231024T014049Z
UID:10004539-1871924400-1871931600@contracostadems.com
SUMMARY:San Ramon Valley Dems
DESCRIPTION:This is a local Democratic club chartered by DPCCC. For more information or for the Zoom link to join the meeting\, send an email to president@srvdems.org
URL:https://contracostadems.com/event/san-ramon-valley-dems-28/2029-04-26/
CATEGORIES:Clubs
ATTACH;FMTTYPE=image/jpeg:https://contracostadems.com/wp-content/uploads/2019/11/SRVDC-LOGO-cropped.jpeg
ORGANIZER;CN="San Ramon Valley Democratic Club":MAILTO:president@srvdems.org
END:VEVENT
BEGIN:VEVENT
DTSTART;TZID=America/Los_Angeles:20290524T190000
DTEND;TZID=America/Los_Angeles:20290524T210000
DTSTAMP:20260423T092718
CREATED:20231024T014048Z
LAST-MODIFIED:20231024T014049Z
UID:10004540-1874343600-1874350800@contracostadems.com
SUMMARY:San Ramon Valley Dems
DESCRIPTION:This is a local Democratic club chartered by DPCCC. For more information or for the Zoom link to join the meeting\, send an email to president@srvdems.org
URL:https://contracostadems.com/event/san-ramon-valley-dems-28/2029-05-24/
CATEGORIES:Clubs
ATTACH;FMTTYPE=image/jpeg:https://contracostadems.com/wp-content/uploads/2019/11/SRVDC-LOGO-cropped.jpeg
ORGANIZER;CN="San Ramon Valley Democratic Club":MAILTO:president@srvdems.org
END:VEVENT
BEGIN:VEVENT
DTSTART;TZID=America/Los_Angeles:20290628T190000
DTEND;TZID=America/Los_Angeles:20290628T210000
DTSTAMP:20260423T092718
CREATED:20231024T014048Z
LAST-MODIFIED:20231024T014049Z
UID:10004541-1877367600-1877374800@contracostadems.com
SUMMARY:San Ramon Valley Dems
DESCRIPTION:This is a local Democratic club chartered by DPCCC. For more information or for the Zoom link to join the meeting\, send an email to president@srvdems.org
URL:https://contracostadems.com/event/san-ramon-valley-dems-28/2029-06-28/
CATEGORIES:Clubs
ATTACH;FMTTYPE=image/jpeg:https://contracostadems.com/wp-content/uploads/2019/11/SRVDC-LOGO-cropped.jpeg
ORGANIZER;CN="San Ramon Valley Democratic Club":MAILTO:president@srvdems.org
END:VEVENT
BEGIN:VEVENT
DTSTART;TZID=America/Los_Angeles:20290726T190000
DTEND;TZID=America/Los_Angeles:20290726T210000
DTSTAMP:20260423T092718
CREATED:20231024T014048Z
LAST-MODIFIED:20231024T014049Z
UID:10004542-1879786800-1879794000@contracostadems.com
SUMMARY:San Ramon Valley Dems
DESCRIPTION:This is a local Democratic club chartered by DPCCC. For more information or for the Zoom link to join the meeting\, send an email to president@srvdems.org
URL:https://contracostadems.com/event/san-ramon-valley-dems-28/2029-07-26/
CATEGORIES:Clubs
ATTACH;FMTTYPE=image/jpeg:https://contracostadems.com/wp-content/uploads/2019/11/SRVDC-LOGO-cropped.jpeg
ORGANIZER;CN="San Ramon Valley Democratic Club":MAILTO:president@srvdems.org
END:VEVENT
END:VCALENDAR