BEGIN:VCALENDAR
VERSION:2.0
PRODID:-//Democratic Party of Contra Costa County - ECPv6.15.20//NONSGML v1.0//EN
CALSCALE:GREGORIAN
METHOD:PUBLISH
X-ORIGINAL-URL:https://contracostadems.com
X-WR-CALDESC:Events for Democratic Party of Contra Costa County
REFRESH-INTERVAL;VALUE=DURATION:PT1H
X-Robots-Tag:noindex
X-PUBLISHED-TTL:PT1H
BEGIN:VTIMEZONE
TZID:America/Los_Angeles
BEGIN:DAYLIGHT
TZOFFSETFROM:-0800
TZOFFSETTO:-0700
TZNAME:PDT
DTSTART:20250309T100000
END:DAYLIGHT
BEGIN:STANDARD
TZOFFSETFROM:-0700
TZOFFSETTO:-0800
TZNAME:PST
DTSTART:20251102T090000
END:STANDARD
BEGIN:DAYLIGHT
TZOFFSETFROM:-0800
TZOFFSETTO:-0700
TZNAME:PDT
DTSTART:20260308T100000
END:DAYLIGHT
BEGIN:STANDARD
TZOFFSETFROM:-0700
TZOFFSETTO:-0800
TZNAME:PST
DTSTART:20261101T090000
END:STANDARD
BEGIN:DAYLIGHT
TZOFFSETFROM:-0800
TZOFFSETTO:-0700
TZNAME:PDT
DTSTART:20270314T100000
END:DAYLIGHT
BEGIN:STANDARD
TZOFFSETFROM:-0700
TZOFFSETTO:-0800
TZNAME:PST
DTSTART:20271107T090000
END:STANDARD
END:VTIMEZONE
BEGIN:VEVENT
DTSTART;TZID=America/Los_Angeles:20260111T090000
DTEND;TZID=America/Los_Angeles:20260111T170000
DTSTAMP:20260423T215753
CREATED:20251217T004417Z
LAST-MODIFIED:20251218T093419Z
UID:10004720-1768122000-1768150800@contracostadems.com
SUMMARY:Winter 2026 Campaign Bootcamp: Ask Us Anything Training Series
DESCRIPTION:Learn how to prepare and execute a campaign to get or stay elected or appointed. Topics include requirements\, ethics\, finances\,  public speaking\, and more.  \nDates: January 11th & 25th and February 1st & 8th\nTime: 9 a.m. – 5 p.m.\nLocation: IBEW Local 302\, Martinez\nCost: $200 early bird \nIt’s the perfect training for any interest in being involved in politics – campaign managers\, elected officials\, candidates commissioners\, volunteers\, anyone! \nGet your questions answered! Register today
URL:https://contracostadems.com/event/winter-2026-campaign-bootcamp-ask-us-anything-training-series/2026-01-11/
LOCATION:IBEW Local 302\, 1875 Arnold Dr\, Martinez\, CA\, 94553\, United States
CATEGORIES:Training
END:VEVENT
BEGIN:VEVENT
DTSTART;TZID=America/Los_Angeles:20260115T190000
DTEND;TZID=America/Los_Angeles:20260115T220000
DTSTAMP:20260423T215753
CREATED:20220728T052633Z
LAST-MODIFIED:20231012T082824Z
UID:10001553-1768503600-1768514400@contracostadems.com
SUMMARY:General Membership Meeting
DESCRIPTION:If you are not a DPCCC member and wish to attend\, please RSVP to the DPCCC Secretary at secretary@contracostadems.com. \nIf you are a DPCCC member\, you should have received an email with details for the meeting about seven days in advance. If you did not\, please email the DPCCC Secretary at secretary@contracostadems.com.
URL:https://contracostadems.com/event/membership-meeting/2026-01-15/
LOCATION:Zoom\, CA
CATEGORIES:Meetings
ATTACH;FMTTYPE=image/png:https://contracostadems.com/wp-content/uploads/2019/08/logoHiResTransparent-e1574965383959.png
END:VEVENT
BEGIN:VEVENT
DTSTART;TZID=America/Los_Angeles:20260128T190000
DTEND;TZID=America/Los_Angeles:20260128T200000
DTSTAMP:20260423T215753
CREATED:20250227T014041Z
LAST-MODIFIED:20250227T014600Z
UID:10004568-1769626800-1769630400@contracostadems.com
SUMMARY:Comms & Infrastructure Committee
DESCRIPTION:Monthly meeting of DPCCC Communications & Infrastructure Committee\, team responsible for outbound communications for the Democratic Party of Contra Costa County – website\, social media\, public relations and email. \nMeeting Information\nDate: 4th Wednesday of each month (except December)\nTime: 7 p.m. – 8 p.m.\nZoom: https://us02web.zoom.us/j/84602073959\nOne tap mobile: +16699006833\,\,84602073959#
URL:https://contracostadems.com/event/comms-infrastructure-committee/2026-01-28/
LOCATION:Zoom\, CA
CATEGORIES:Committees
END:VEVENT
END:VCALENDAR