BEGIN:VCALENDAR
VERSION:2.0
PRODID:-//Democratic Party of Contra Costa County - ECPv6.15.20//NONSGML v1.0//EN
CALSCALE:GREGORIAN
METHOD:PUBLISH
X-ORIGINAL-URL:https://contracostadems.com
X-WR-CALDESC:Events for Democratic Party of Contra Costa County
REFRESH-INTERVAL;VALUE=DURATION:PT1H
X-Robots-Tag:noindex
X-PUBLISHED-TTL:PT1H
BEGIN:VTIMEZONE
TZID:America/Los_Angeles
BEGIN:DAYLIGHT
TZOFFSETFROM:-0800
TZOFFSETTO:-0700
TZNAME:PDT
DTSTART:20270314T100000
END:DAYLIGHT
BEGIN:STANDARD
TZOFFSETFROM:-0700
TZOFFSETTO:-0800
TZNAME:PST
DTSTART:20271107T090000
END:STANDARD
BEGIN:DAYLIGHT
TZOFFSETFROM:-0800
TZOFFSETTO:-0700
TZNAME:PDT
DTSTART:20280312T100000
END:DAYLIGHT
BEGIN:STANDARD
TZOFFSETFROM:-0700
TZOFFSETTO:-0800
TZNAME:PST
DTSTART:20281105T090000
END:STANDARD
BEGIN:DAYLIGHT
TZOFFSETFROM:-0800
TZOFFSETTO:-0700
TZNAME:PDT
DTSTART:20290311T100000
END:DAYLIGHT
BEGIN:STANDARD
TZOFFSETFROM:-0700
TZOFFSETTO:-0800
TZNAME:PST
DTSTART:20291104T090000
END:STANDARD
BEGIN:DAYLIGHT
TZOFFSETFROM:-0800
TZOFFSETTO:-0700
TZNAME:PDT
DTSTART:20300310T100000
END:DAYLIGHT
BEGIN:STANDARD
TZOFFSETFROM:-0700
TZOFFSETTO:-0800
TZNAME:PST
DTSTART:20301103T090000
END:STANDARD
BEGIN:DAYLIGHT
TZOFFSETFROM:-0800
TZOFFSETTO:-0700
TZNAME:PDT
DTSTART:20310309T100000
END:DAYLIGHT
BEGIN:STANDARD
TZOFFSETFROM:-0700
TZOFFSETTO:-0800
TZNAME:PST
DTSTART:20311102T090000
END:STANDARD
BEGIN:DAYLIGHT
TZOFFSETFROM:-0800
TZOFFSETTO:-0700
TZNAME:PDT
DTSTART:20320314T100000
END:DAYLIGHT
BEGIN:STANDARD
TZOFFSETFROM:-0700
TZOFFSETTO:-0800
TZNAME:PST
DTSTART:20321107T090000
END:STANDARD
END:VTIMEZONE
BEGIN:VEVENT
DTSTART;TZID=America/Los_Angeles:20281113T190000
DTEND;TZID=America/Los_Angeles:20281113T210000
DTSTAMP:20260423T134114
CREATED:20230922T041053Z
LAST-MODIFIED:20240528T043056Z
UID:10004123-1857754800-1857762000@contracostadems.com
SUMMARY:Rules Committee
DESCRIPTION:To attend\, contact Jeff Koertzen at jeff@jeffkoertzen.com
URL:https://contracostadems.com/event/rules-committee-27/2028-11-13/
LOCATION:Zoom\, CA
CATEGORIES:Committees
END:VEVENT
BEGIN:VEVENT
DTSTART;TZID=America/Los_Angeles:20281211T190000
DTEND;TZID=America/Los_Angeles:20281211T210000
DTSTAMP:20260423T134114
CREATED:20230922T041053Z
LAST-MODIFIED:20240528T043056Z
UID:10004124-1860174000-1860181200@contracostadems.com
SUMMARY:Rules Committee
DESCRIPTION:To attend\, contact Jeff Koertzen at jeff@jeffkoertzen.com
URL:https://contracostadems.com/event/rules-committee-27/2028-12-11/
LOCATION:Zoom\, CA
CATEGORIES:Committees
END:VEVENT
BEGIN:VEVENT
DTSTART;TZID=America/Los_Angeles:20290108T190000
DTEND;TZID=America/Los_Angeles:20290108T210000
DTSTAMP:20260423T134114
CREATED:20230922T041053Z
LAST-MODIFIED:20240528T043056Z
UID:10004125-1862593200-1862600400@contracostadems.com
SUMMARY:Rules Committee
DESCRIPTION:To attend\, contact Jeff Koertzen at jeff@jeffkoertzen.com
URL:https://contracostadems.com/event/rules-committee-27/2029-01-08/
LOCATION:Zoom\, CA
CATEGORIES:Committees
END:VEVENT
BEGIN:VEVENT
DTSTART;TZID=America/Los_Angeles:20290212T190000
DTEND;TZID=America/Los_Angeles:20290212T210000
DTSTAMP:20260423T134114
CREATED:20230922T041053Z
LAST-MODIFIED:20240528T043056Z
UID:10004126-1865617200-1865624400@contracostadems.com
SUMMARY:Rules Committee
DESCRIPTION:To attend\, contact Jeff Koertzen at jeff@jeffkoertzen.com
URL:https://contracostadems.com/event/rules-committee-27/2029-02-12/
LOCATION:Zoom\, CA
CATEGORIES:Committees
END:VEVENT
BEGIN:VEVENT
DTSTART;TZID=America/Los_Angeles:20290312T190000
DTEND;TZID=America/Los_Angeles:20290312T210000
DTSTAMP:20260423T134114
CREATED:20230922T041053Z
LAST-MODIFIED:20240528T043056Z
UID:10004127-1868036400-1868043600@contracostadems.com
SUMMARY:Rules Committee
DESCRIPTION:To attend\, contact Jeff Koertzen at jeff@jeffkoertzen.com
URL:https://contracostadems.com/event/rules-committee-27/2029-03-12/
LOCATION:Zoom\, CA
CATEGORIES:Committees
END:VEVENT
BEGIN:VEVENT
DTSTART;TZID=America/Los_Angeles:20290409T190000
DTEND;TZID=America/Los_Angeles:20290409T210000
DTSTAMP:20260423T134114
CREATED:20230922T041053Z
LAST-MODIFIED:20240528T043056Z
UID:10004128-1870455600-1870462800@contracostadems.com
SUMMARY:Rules Committee
DESCRIPTION:To attend\, contact Jeff Koertzen at jeff@jeffkoertzen.com
URL:https://contracostadems.com/event/rules-committee-27/2029-04-09/
LOCATION:Zoom\, CA
CATEGORIES:Committees
END:VEVENT
BEGIN:VEVENT
DTSTART;TZID=America/Los_Angeles:20290514T190000
DTEND;TZID=America/Los_Angeles:20290514T210000
DTSTAMP:20260423T134114
CREATED:20230922T041053Z
LAST-MODIFIED:20240528T043056Z
UID:10004129-1873479600-1873486800@contracostadems.com
SUMMARY:Rules Committee
DESCRIPTION:To attend\, contact Jeff Koertzen at jeff@jeffkoertzen.com
URL:https://contracostadems.com/event/rules-committee-27/2029-05-14/
LOCATION:Zoom\, CA
CATEGORIES:Committees
END:VEVENT
BEGIN:VEVENT
DTSTART;TZID=America/Los_Angeles:20290611T190000
DTEND;TZID=America/Los_Angeles:20290611T210000
DTSTAMP:20260423T134114
CREATED:20230922T041053Z
LAST-MODIFIED:20240528T043056Z
UID:10004640-1875898800-1875906000@contracostadems.com
SUMMARY:Rules Committee
DESCRIPTION:To attend\, contact Jeff Koertzen at jeff@jeffkoertzen.com
URL:https://contracostadems.com/event/rules-committee-27/2029-06-11/
LOCATION:Zoom\, CA
CATEGORIES:Committees
END:VEVENT
BEGIN:VEVENT
DTSTART;TZID=America/Los_Angeles:20290709T190000
DTEND;TZID=America/Los_Angeles:20290709T210000
DTSTAMP:20260423T134114
CREATED:20230922T041053Z
LAST-MODIFIED:20240528T043056Z
UID:10004641-1878318000-1878325200@contracostadems.com
SUMMARY:Rules Committee
DESCRIPTION:To attend\, contact Jeff Koertzen at jeff@jeffkoertzen.com
URL:https://contracostadems.com/event/rules-committee-27/2029-07-09/
LOCATION:Zoom\, CA
CATEGORIES:Committees
END:VEVENT
BEGIN:VEVENT
DTSTART;TZID=America/Los_Angeles:20290813T190000
DTEND;TZID=America/Los_Angeles:20290813T210000
DTSTAMP:20260423T134114
CREATED:20230922T041053Z
LAST-MODIFIED:20240528T043056Z
UID:10004642-1881342000-1881349200@contracostadems.com
SUMMARY:Rules Committee
DESCRIPTION:To attend\, contact Jeff Koertzen at jeff@jeffkoertzen.com
URL:https://contracostadems.com/event/rules-committee-27/2029-08-13/
LOCATION:Zoom\, CA
CATEGORIES:Committees
END:VEVENT
BEGIN:VEVENT
DTSTART;TZID=America/Los_Angeles:20290910T190000
DTEND;TZID=America/Los_Angeles:20290910T210000
DTSTAMP:20260423T134114
CREATED:20230922T041053Z
LAST-MODIFIED:20240528T043056Z
UID:10004643-1883761200-1883768400@contracostadems.com
SUMMARY:Rules Committee
DESCRIPTION:To attend\, contact Jeff Koertzen at jeff@jeffkoertzen.com
URL:https://contracostadems.com/event/rules-committee-27/2029-09-10/
LOCATION:Zoom\, CA
CATEGORIES:Committees
END:VEVENT
BEGIN:VEVENT
DTSTART;TZID=America/Los_Angeles:20291008T190000
DTEND;TZID=America/Los_Angeles:20291008T210000
DTSTAMP:20260423T134114
CREATED:20230922T041053Z
LAST-MODIFIED:20240528T043056Z
UID:10004644-1886180400-1886187600@contracostadems.com
SUMMARY:Rules Committee
DESCRIPTION:To attend\, contact Jeff Koertzen at jeff@jeffkoertzen.com
URL:https://contracostadems.com/event/rules-committee-27/2029-10-08/
LOCATION:Zoom\, CA
CATEGORIES:Committees
END:VEVENT
BEGIN:VEVENT
DTSTART;TZID=America/Los_Angeles:20291112T190000
DTEND;TZID=America/Los_Angeles:20291112T210000
DTSTAMP:20260423T134114
CREATED:20230922T041053Z
LAST-MODIFIED:20240528T043056Z
UID:10004645-1889204400-1889211600@contracostadems.com
SUMMARY:Rules Committee
DESCRIPTION:To attend\, contact Jeff Koertzen at jeff@jeffkoertzen.com
URL:https://contracostadems.com/event/rules-committee-27/2029-11-12/
LOCATION:Zoom\, CA
CATEGORIES:Committees
END:VEVENT
BEGIN:VEVENT
DTSTART;TZID=America/Los_Angeles:20291210T190000
DTEND;TZID=America/Los_Angeles:20291210T210000
DTSTAMP:20260423T134114
CREATED:20230922T041053Z
LAST-MODIFIED:20240528T043056Z
UID:10004646-1891623600-1891630800@contracostadems.com
SUMMARY:Rules Committee
DESCRIPTION:To attend\, contact Jeff Koertzen at jeff@jeffkoertzen.com
URL:https://contracostadems.com/event/rules-committee-27/2029-12-10/
LOCATION:Zoom\, CA
CATEGORIES:Committees
END:VEVENT
BEGIN:VEVENT
DTSTART;TZID=America/Los_Angeles:20300114T190000
DTEND;TZID=America/Los_Angeles:20300114T210000
DTSTAMP:20260423T134114
CREATED:20230922T041053Z
LAST-MODIFIED:20240528T043056Z
UID:10004647-1894647600-1894654800@contracostadems.com
SUMMARY:Rules Committee
DESCRIPTION:To attend\, contact Jeff Koertzen at jeff@jeffkoertzen.com
URL:https://contracostadems.com/event/rules-committee-27/2030-01-14/
LOCATION:Zoom\, CA
CATEGORIES:Committees
END:VEVENT
BEGIN:VEVENT
DTSTART;TZID=America/Los_Angeles:20300211T190000
DTEND;TZID=America/Los_Angeles:20300211T210000
DTSTAMP:20260423T134114
CREATED:20230922T041053Z
LAST-MODIFIED:20240528T043056Z
UID:10004648-1897066800-1897074000@contracostadems.com
SUMMARY:Rules Committee
DESCRIPTION:To attend\, contact Jeff Koertzen at jeff@jeffkoertzen.com
URL:https://contracostadems.com/event/rules-committee-27/2030-02-11/
LOCATION:Zoom\, CA
CATEGORIES:Committees
END:VEVENT
BEGIN:VEVENT
DTSTART;TZID=America/Los_Angeles:20300311T190000
DTEND;TZID=America/Los_Angeles:20300311T210000
DTSTAMP:20260423T134114
CREATED:20230922T041053Z
LAST-MODIFIED:20240528T043056Z
UID:10004649-1899486000-1899493200@contracostadems.com
SUMMARY:Rules Committee
DESCRIPTION:To attend\, contact Jeff Koertzen at jeff@jeffkoertzen.com
URL:https://contracostadems.com/event/rules-committee-27/2030-03-11/
LOCATION:Zoom\, CA
CATEGORIES:Committees
END:VEVENT
BEGIN:VEVENT
DTSTART;TZID=America/Los_Angeles:20300408T190000
DTEND;TZID=America/Los_Angeles:20300408T210000
DTSTAMP:20260423T134114
CREATED:20230922T041053Z
LAST-MODIFIED:20240528T043056Z
UID:10004650-1901905200-1901912400@contracostadems.com
SUMMARY:Rules Committee
DESCRIPTION:To attend\, contact Jeff Koertzen at jeff@jeffkoertzen.com
URL:https://contracostadems.com/event/rules-committee-27/2030-04-08/
LOCATION:Zoom\, CA
CATEGORIES:Committees
END:VEVENT
BEGIN:VEVENT
DTSTART;TZID=America/Los_Angeles:20300513T190000
DTEND;TZID=America/Los_Angeles:20300513T210000
DTSTAMP:20260423T134114
CREATED:20230922T041053Z
LAST-MODIFIED:20240528T043056Z
UID:10004651-1904929200-1904936400@contracostadems.com
SUMMARY:Rules Committee
DESCRIPTION:To attend\, contact Jeff Koertzen at jeff@jeffkoertzen.com
URL:https://contracostadems.com/event/rules-committee-27/2030-05-13/
LOCATION:Zoom\, CA
CATEGORIES:Committees
END:VEVENT
BEGIN:VEVENT
DTSTART;TZID=America/Los_Angeles:20300610T190000
DTEND;TZID=America/Los_Angeles:20300610T210000
DTSTAMP:20260423T134114
CREATED:20230922T041053Z
LAST-MODIFIED:20240528T043056Z
UID:10004652-1907348400-1907355600@contracostadems.com
SUMMARY:Rules Committee
DESCRIPTION:To attend\, contact Jeff Koertzen at jeff@jeffkoertzen.com
URL:https://contracostadems.com/event/rules-committee-27/2030-06-10/
LOCATION:Zoom\, CA
CATEGORIES:Committees
END:VEVENT
BEGIN:VEVENT
DTSTART;TZID=America/Los_Angeles:20300708T190000
DTEND;TZID=America/Los_Angeles:20300708T210000
DTSTAMP:20260423T134114
CREATED:20230922T041053Z
LAST-MODIFIED:20240528T043056Z
UID:10004662-1909767600-1909774800@contracostadems.com
SUMMARY:Rules Committee
DESCRIPTION:To attend\, contact Jeff Koertzen at jeff@jeffkoertzen.com
URL:https://contracostadems.com/event/rules-committee-27/2030-07-08/
LOCATION:Zoom\, CA
CATEGORIES:Committees
END:VEVENT
BEGIN:VEVENT
DTSTART;TZID=America/Los_Angeles:20300812T190000
DTEND;TZID=America/Los_Angeles:20300812T210000
DTSTAMP:20260423T134114
CREATED:20230922T041053Z
LAST-MODIFIED:20240528T043056Z
UID:10004684-1912791600-1912798800@contracostadems.com
SUMMARY:Rules Committee
DESCRIPTION:To attend\, contact Jeff Koertzen at jeff@jeffkoertzen.com
URL:https://contracostadems.com/event/rules-committee-27/2030-08-12/
LOCATION:Zoom\, CA
CATEGORIES:Committees
END:VEVENT
BEGIN:VEVENT
DTSTART;TZID=America/Los_Angeles:20300909T190000
DTEND;TZID=America/Los_Angeles:20300909T210000
DTSTAMP:20260423T134114
CREATED:20230922T041053Z
LAST-MODIFIED:20240528T043056Z
UID:10004692-1915210800-1915218000@contracostadems.com
SUMMARY:Rules Committee
DESCRIPTION:To attend\, contact Jeff Koertzen at jeff@jeffkoertzen.com
URL:https://contracostadems.com/event/rules-committee-27/2030-09-09/
LOCATION:Zoom\, CA
CATEGORIES:Committees
END:VEVENT
BEGIN:VEVENT
DTSTART;TZID=America/Los_Angeles:20301014T190000
DTEND;TZID=America/Los_Angeles:20301014T210000
DTSTAMP:20260423T134114
CREATED:20230922T041053Z
LAST-MODIFIED:20240528T043056Z
UID:10004701-1918234800-1918242000@contracostadems.com
SUMMARY:Rules Committee
DESCRIPTION:To attend\, contact Jeff Koertzen at jeff@jeffkoertzen.com
URL:https://contracostadems.com/event/rules-committee-27/2030-10-14/
LOCATION:Zoom\, CA
CATEGORIES:Committees
END:VEVENT
BEGIN:VEVENT
DTSTART;TZID=America/Los_Angeles:20301111T190000
DTEND;TZID=America/Los_Angeles:20301111T210000
DTSTAMP:20260423T134114
CREATED:20230922T041053Z
LAST-MODIFIED:20240528T043056Z
UID:10004708-1920654000-1920661200@contracostadems.com
SUMMARY:Rules Committee
DESCRIPTION:To attend\, contact Jeff Koertzen at jeff@jeffkoertzen.com
URL:https://contracostadems.com/event/rules-committee-27/2030-11-11/
LOCATION:Zoom\, CA
CATEGORIES:Committees
END:VEVENT
BEGIN:VEVENT
DTSTART;TZID=America/Los_Angeles:20301209T190000
DTEND;TZID=America/Los_Angeles:20301209T210000
DTSTAMP:20260423T134114
CREATED:20230922T041053Z
LAST-MODIFIED:20240528T043056Z
UID:10004718-1923073200-1923080400@contracostadems.com
SUMMARY:Rules Committee
DESCRIPTION:To attend\, contact Jeff Koertzen at jeff@jeffkoertzen.com
URL:https://contracostadems.com/event/rules-committee-27/2030-12-09/
LOCATION:Zoom\, CA
CATEGORIES:Committees
END:VEVENT
BEGIN:VEVENT
DTSTART;TZID=America/Los_Angeles:20310113T190000
DTEND;TZID=America/Los_Angeles:20310113T210000
DTSTAMP:20260423T134114
CREATED:20230922T041053Z
LAST-MODIFIED:20240528T043056Z
UID:10004730-1926097200-1926104400@contracostadems.com
SUMMARY:Rules Committee
DESCRIPTION:To attend\, contact Jeff Koertzen at jeff@jeffkoertzen.com
URL:https://contracostadems.com/event/rules-committee-27/2031-01-13/
LOCATION:Zoom\, CA
CATEGORIES:Committees
END:VEVENT
BEGIN:VEVENT
DTSTART;TZID=America/Los_Angeles:20310210T190000
DTEND;TZID=America/Los_Angeles:20310210T210000
DTSTAMP:20260423T134114
CREATED:20230922T041053Z
LAST-MODIFIED:20240528T043056Z
UID:10004738-1928516400-1928523600@contracostadems.com
SUMMARY:Rules Committee
DESCRIPTION:To attend\, contact Jeff Koertzen at jeff@jeffkoertzen.com
URL:https://contracostadems.com/event/rules-committee-27/2031-02-10/
LOCATION:Zoom\, CA
CATEGORIES:Committees
END:VEVENT
BEGIN:VEVENT
DTSTART;TZID=America/Los_Angeles:20310310T190000
DTEND;TZID=America/Los_Angeles:20310310T210000
DTSTAMP:20260423T134114
CREATED:20230922T041053Z
LAST-MODIFIED:20240528T043056Z
UID:10004760-1930935600-1930942800@contracostadems.com
SUMMARY:Rules Committee
DESCRIPTION:To attend\, contact Jeff Koertzen at jeff@jeffkoertzen.com
URL:https://contracostadems.com/event/rules-committee-27/2031-03-10/
LOCATION:Zoom\, CA
CATEGORIES:Committees
END:VEVENT
BEGIN:VEVENT
DTSTART;TZID=America/Los_Angeles:20310414T190000
DTEND;TZID=America/Los_Angeles:20310414T210000
DTSTAMP:20260423T134114
CREATED:20230922T041053Z
LAST-MODIFIED:20240528T043056Z
UID:10004770-1933959600-1933966800@contracostadems.com
SUMMARY:Rules Committee
DESCRIPTION:To attend\, contact Jeff Koertzen at jeff@jeffkoertzen.com
URL:https://contracostadems.com/event/rules-committee-27/2031-04-14/
LOCATION:Zoom\, CA
CATEGORIES:Committees
END:VEVENT
END:VCALENDAR