BEGIN:VCALENDAR
VERSION:2.0
PRODID:-//Democratic Party of Contra Costa County - ECPv6.15.20//NONSGML v1.0//EN
CALSCALE:GREGORIAN
METHOD:PUBLISH
X-ORIGINAL-URL:https://contracostadems.com
X-WR-CALDESC:Events for Democratic Party of Contra Costa County
REFRESH-INTERVAL;VALUE=DURATION:PT1H
X-Robots-Tag:noindex
X-PUBLISHED-TTL:PT1H
BEGIN:VTIMEZONE
TZID:America/Los_Angeles
BEGIN:DAYLIGHT
TZOFFSETFROM:-0800
TZOFFSETTO:-0700
TZNAME:PDT
DTSTART:20290311T100000
END:DAYLIGHT
BEGIN:STANDARD
TZOFFSETFROM:-0700
TZOFFSETTO:-0800
TZNAME:PST
DTSTART:20291104T090000
END:STANDARD
BEGIN:DAYLIGHT
TZOFFSETFROM:-0800
TZOFFSETTO:-0700
TZNAME:PDT
DTSTART:20300310T100000
END:DAYLIGHT
BEGIN:STANDARD
TZOFFSETFROM:-0700
TZOFFSETTO:-0800
TZNAME:PST
DTSTART:20301103T090000
END:STANDARD
BEGIN:DAYLIGHT
TZOFFSETFROM:-0800
TZOFFSETTO:-0700
TZNAME:PDT
DTSTART:20310309T100000
END:DAYLIGHT
BEGIN:STANDARD
TZOFFSETFROM:-0700
TZOFFSETTO:-0800
TZNAME:PST
DTSTART:20311102T090000
END:STANDARD
BEGIN:DAYLIGHT
TZOFFSETFROM:-0800
TZOFFSETTO:-0700
TZNAME:PDT
DTSTART:20320314T100000
END:DAYLIGHT
BEGIN:STANDARD
TZOFFSETFROM:-0700
TZOFFSETTO:-0800
TZNAME:PST
DTSTART:20321107T090000
END:STANDARD
END:VTIMEZONE
BEGIN:VEVENT
DTSTART;TZID=America/Los_Angeles:20300624T183000
DTEND;TZID=America/Los_Angeles:20300624T203000
DTSTAMP:20260423T163711
CREATED:20250213T015018Z
LAST-MODIFIED:20250213T015018Z
UID:10004745-1908556200-1908563400@contracostadems.com
SUMMARY:Diablo Valley Dems Club
DESCRIPTION:Hybrid meetings for the club. Check out our website for the Zoom link and agenda.
URL:https://contracostadems.com/event/diablo-valley-dems-club/2030-06-24/
LOCATION:Ygnacio Valley Library\, 2661 Oak Grove Rd.\, Walnut Creek\, CA\, 94598\, United States
END:VEVENT
BEGIN:VEVENT
DTSTART;TZID=America/Los_Angeles:20300722T183000
DTEND;TZID=America/Los_Angeles:20300722T203000
DTSTAMP:20260423T163711
CREATED:20250213T015018Z
LAST-MODIFIED:20250213T015018Z
UID:10004746-1910975400-1910982600@contracostadems.com
SUMMARY:Diablo Valley Dems Club
DESCRIPTION:Hybrid meetings for the club. Check out our website for the Zoom link and agenda.
URL:https://contracostadems.com/event/diablo-valley-dems-club/2030-07-22/
LOCATION:Ygnacio Valley Library\, 2661 Oak Grove Rd.\, Walnut Creek\, CA\, 94598\, United States
END:VEVENT
BEGIN:VEVENT
DTSTART;TZID=America/Los_Angeles:20300826T183000
DTEND;TZID=America/Los_Angeles:20300826T203000
DTSTAMP:20260423T163711
CREATED:20250213T015018Z
LAST-MODIFIED:20250213T015018Z
UID:10004747-1913999400-1914006600@contracostadems.com
SUMMARY:Diablo Valley Dems Club
DESCRIPTION:Hybrid meetings for the club. Check out our website for the Zoom link and agenda.
URL:https://contracostadems.com/event/diablo-valley-dems-club/2030-08-26/
LOCATION:Ygnacio Valley Library\, 2661 Oak Grove Rd.\, Walnut Creek\, CA\, 94598\, United States
END:VEVENT
BEGIN:VEVENT
DTSTART;TZID=America/Los_Angeles:20300923T183000
DTEND;TZID=America/Los_Angeles:20300923T203000
DTSTAMP:20260423T163711
CREATED:20250213T015018Z
LAST-MODIFIED:20250213T015018Z
UID:10004748-1916418600-1916425800@contracostadems.com
SUMMARY:Diablo Valley Dems Club
DESCRIPTION:Hybrid meetings for the club. Check out our website for the Zoom link and agenda.
URL:https://contracostadems.com/event/diablo-valley-dems-club/2030-09-23/
LOCATION:Ygnacio Valley Library\, 2661 Oak Grove Rd.\, Walnut Creek\, CA\, 94598\, United States
END:VEVENT
BEGIN:VEVENT
DTSTART;TZID=America/Los_Angeles:20301028T183000
DTEND;TZID=America/Los_Angeles:20301028T203000
DTSTAMP:20260423T163711
CREATED:20250213T015018Z
LAST-MODIFIED:20250213T015018Z
UID:10004749-1919442600-1919449800@contracostadems.com
SUMMARY:Diablo Valley Dems Club
DESCRIPTION:Hybrid meetings for the club. Check out our website for the Zoom link and agenda.
URL:https://contracostadems.com/event/diablo-valley-dems-club/2030-10-28/
LOCATION:Ygnacio Valley Library\, 2661 Oak Grove Rd.\, Walnut Creek\, CA\, 94598\, United States
END:VEVENT
BEGIN:VEVENT
DTSTART;TZID=America/Los_Angeles:20301125T183000
DTEND;TZID=America/Los_Angeles:20301125T203000
DTSTAMP:20260423T163711
CREATED:20250213T015018Z
LAST-MODIFIED:20250213T015018Z
UID:10004750-1921861800-1921869000@contracostadems.com
SUMMARY:Diablo Valley Dems Club
DESCRIPTION:Hybrid meetings for the club. Check out our website for the Zoom link and agenda.
URL:https://contracostadems.com/event/diablo-valley-dems-club/2030-11-25/
LOCATION:Ygnacio Valley Library\, 2661 Oak Grove Rd.\, Walnut Creek\, CA\, 94598\, United States
END:VEVENT
BEGIN:VEVENT
DTSTART;TZID=America/Los_Angeles:20301223T183000
DTEND;TZID=America/Los_Angeles:20301223T203000
DTSTAMP:20260423T163711
CREATED:20250213T015018Z
LAST-MODIFIED:20250213T015018Z
UID:10004751-1924281000-1924288200@contracostadems.com
SUMMARY:Diablo Valley Dems Club
DESCRIPTION:Hybrid meetings for the club. Check out our website for the Zoom link and agenda.
URL:https://contracostadems.com/event/diablo-valley-dems-club/2030-12-23/
LOCATION:Ygnacio Valley Library\, 2661 Oak Grove Rd.\, Walnut Creek\, CA\, 94598\, United States
END:VEVENT
BEGIN:VEVENT
DTSTART;TZID=America/Los_Angeles:20310127T183000
DTEND;TZID=America/Los_Angeles:20310127T203000
DTSTAMP:20260423T163711
CREATED:20250213T015018Z
LAST-MODIFIED:20250213T015018Z
UID:10004752-1927305000-1927312200@contracostadems.com
SUMMARY:Diablo Valley Dems Club
DESCRIPTION:Hybrid meetings for the club. Check out our website for the Zoom link and agenda.
URL:https://contracostadems.com/event/diablo-valley-dems-club/2031-01-27/
LOCATION:Ygnacio Valley Library\, 2661 Oak Grove Rd.\, Walnut Creek\, CA\, 94598\, United States
END:VEVENT
BEGIN:VEVENT
DTSTART;TZID=America/Los_Angeles:20310224T183000
DTEND;TZID=America/Los_Angeles:20310224T203000
DTSTAMP:20260423T163711
CREATED:20250213T015018Z
LAST-MODIFIED:20250213T015018Z
UID:10004753-1929724200-1929731400@contracostadems.com
SUMMARY:Diablo Valley Dems Club
DESCRIPTION:Hybrid meetings for the club. Check out our website for the Zoom link and agenda.
URL:https://contracostadems.com/event/diablo-valley-dems-club/2031-02-24/
LOCATION:Ygnacio Valley Library\, 2661 Oak Grove Rd.\, Walnut Creek\, CA\, 94598\, United States
END:VEVENT
BEGIN:VEVENT
DTSTART;TZID=America/Los_Angeles:20310324T183000
DTEND;TZID=America/Los_Angeles:20310324T203000
DTSTAMP:20260423T163711
CREATED:20250213T015018Z
LAST-MODIFIED:20250213T015018Z
UID:10004763-1932143400-1932150600@contracostadems.com
SUMMARY:Diablo Valley Dems Club
DESCRIPTION:Hybrid meetings for the club. Check out our website for the Zoom link and agenda.
URL:https://contracostadems.com/event/diablo-valley-dems-club/2031-03-24/
LOCATION:Ygnacio Valley Library\, 2661 Oak Grove Rd.\, Walnut Creek\, CA\, 94598\, United States
END:VEVENT
END:VCALENDAR