BEGIN:VCALENDAR
VERSION:2.0
PRODID:-//Democratic Party of Contra Costa County - ECPv6.15.20//NONSGML v1.0//EN
CALSCALE:GREGORIAN
METHOD:PUBLISH
X-ORIGINAL-URL:https://contracostadems.com
X-WR-CALDESC:Events for Democratic Party of Contra Costa County
REFRESH-INTERVAL;VALUE=DURATION:PT1H
X-Robots-Tag:noindex
X-PUBLISHED-TTL:PT1H
BEGIN:VTIMEZONE
TZID:America/Los_Angeles
BEGIN:DAYLIGHT
TZOFFSETFROM:-0800
TZOFFSETTO:-0700
TZNAME:PDT
DTSTART:20250309T100000
END:DAYLIGHT
BEGIN:STANDARD
TZOFFSETFROM:-0700
TZOFFSETTO:-0800
TZNAME:PST
DTSTART:20251102T090000
END:STANDARD
BEGIN:DAYLIGHT
TZOFFSETFROM:-0800
TZOFFSETTO:-0700
TZNAME:PDT
DTSTART:20260308T100000
END:DAYLIGHT
BEGIN:STANDARD
TZOFFSETFROM:-0700
TZOFFSETTO:-0800
TZNAME:PST
DTSTART:20261101T090000
END:STANDARD
BEGIN:DAYLIGHT
TZOFFSETFROM:-0800
TZOFFSETTO:-0700
TZNAME:PDT
DTSTART:20270314T100000
END:DAYLIGHT
BEGIN:STANDARD
TZOFFSETFROM:-0700
TZOFFSETTO:-0800
TZNAME:PST
DTSTART:20271107T090000
END:STANDARD
END:VTIMEZONE
BEGIN:VEVENT
DTSTART;TZID=America/Los_Angeles:20260427T183000
DTEND;TZID=America/Los_Angeles:20260427T203000
DTSTAMP:20260423T092410
CREATED:20250213T015018Z
LAST-MODIFIED:20250213T015018Z
UID:10004464-1777314600-1777321800@contracostadems.com
SUMMARY:Diablo Valley Dems Club
DESCRIPTION:Hybrid meetings for the club. Check out our website for the Zoom link and agenda.
URL:https://contracostadems.com/event/diablo-valley-dems-club/2026-04-27/
LOCATION:Ygnacio Valley Library\, 2661 Oak Grove Rd.\, Walnut Creek\, CA\, 94598\, United States
END:VEVENT
BEGIN:VEVENT
DTSTART;TZID=America/Los_Angeles:20260507T190000
DTEND;TZID=America/Los_Angeles:20260507T210000
DTSTAMP:20260423T092410
CREATED:20240702T034404Z
LAST-MODIFIED:20240702T034810Z
UID:10004257-1778180400-1778187600@contracostadems.com
SUMMARY:Executive Committee
DESCRIPTION:The DPCCC Executive Committee Meeting is open to observers who are members of the Democratic Party of Contra Costa County.\nAll Leadership Team Members will receive agendas 7 days before the meeting by email.\nFor information send email to secretary@contracostadems.com.
URL:https://contracostadems.com/event/executive-committee-10/2026-05-07/
CATEGORIES:Committees
ATTACH;FMTTYPE=image/svg+xml:https://contracostadems.com/wp-content/uploads/2020/01/logoHiResTransparent-1.svg
END:VEVENT
BEGIN:VEVENT
DTSTART;TZID=America/Los_Angeles:20260511T173000
DTEND;TZID=America/Los_Angeles:20260511T190000
DTSTAMP:20260423T092410
CREATED:20230710T202022Z
LAST-MODIFIED:20240528T045103Z
UID:10002837-1778520600-1778526000@contracostadems.com
SUMMARY:Training Committee
DESCRIPTION:For details\, email the Training Committee Chair\, Cheryl Sudduth\, at training@contracostadems.com.
URL:https://contracostadems.com/event/training-committee-meeting/2026-05-11/
LOCATION:United States
CATEGORIES:Committees
END:VEVENT
BEGIN:VEVENT
DTSTART;TZID=America/Los_Angeles:20260511T190000
DTEND;TZID=America/Los_Angeles:20260511T210000
DTSTAMP:20260423T092410
CREATED:20230922T041053Z
LAST-MODIFIED:20240528T043056Z
UID:10004093-1778526000-1778533200@contracostadems.com
SUMMARY:Rules Committee
DESCRIPTION:To attend\, contact Jeff Koertzen at jeff@jeffkoertzen.com
URL:https://contracostadems.com/event/rules-committee-27/2026-05-11/
LOCATION:Zoom\, CA
CATEGORIES:Committees
END:VEVENT
BEGIN:VEVENT
DTSTART;TZID=America/Los_Angeles:20260521T190000
DTEND;TZID=America/Los_Angeles:20260521T220000
DTSTAMP:20260423T092410
CREATED:20220728T052633Z
LAST-MODIFIED:20231012T082824Z
UID:10001557-1779390000-1779400800@contracostadems.com
SUMMARY:General Membership Meeting
DESCRIPTION:If you are not a DPCCC member and wish to attend\, please RSVP to the DPCCC Secretary at secretary@contracostadems.com. \nIf you are a DPCCC member\, you should have received an email with details for the meeting about seven days in advance. If you did not\, please email the DPCCC Secretary at secretary@contracostadems.com.
URL:https://contracostadems.com/event/membership-meeting/2026-05-21/
LOCATION:Zoom\, CA
CATEGORIES:Meetings
ATTACH;FMTTYPE=image/png:https://contracostadems.com/wp-content/uploads/2019/08/logoHiResTransparent-e1574965383959.png
END:VEVENT
BEGIN:VEVENT
DTSTART;TZID=America/Los_Angeles:20260527T190000
DTEND;TZID=America/Los_Angeles:20260527T200000
DTSTAMP:20260423T092410
CREATED:20250227T014041Z
LAST-MODIFIED:20250227T014600Z
UID:10004572-1779908400-1779912000@contracostadems.com
SUMMARY:Comms & Infrastructure Committee
DESCRIPTION:Monthly meeting of DPCCC Communications & Infrastructure Committee\, team responsible for outbound communications for the Democratic Party of Contra Costa County – website\, social media\, public relations and email. \nMeeting Information\nDate: 4th Wednesday of each month (except December)\nTime: 7 p.m. – 8 p.m.\nZoom: https://us02web.zoom.us/j/84602073959\nOne tap mobile: +16699006833\,\,84602073959#
URL:https://contracostadems.com/event/comms-infrastructure-committee/2026-05-27/
LOCATION:Zoom\, CA
CATEGORIES:Committees
END:VEVENT
END:VCALENDAR