BEGIN:VCALENDAR
VERSION:2.0
PRODID:-//Democratic Party of Contra Costa County - ECPv6.15.20//NONSGML v1.0//EN
CALSCALE:GREGORIAN
METHOD:PUBLISH
X-WR-CALNAME:Democratic Party of Contra Costa County
X-ORIGINAL-URL:https://contracostadems.com
X-WR-CALDESC:Events for Democratic Party of Contra Costa County
REFRESH-INTERVAL;VALUE=DURATION:PT1H
X-Robots-Tag:noindex
X-PUBLISHED-TTL:PT1H
BEGIN:VTIMEZONE
TZID:America/Los_Angeles
BEGIN:DAYLIGHT
TZOFFSETFROM:-0800
TZOFFSETTO:-0700
TZNAME:PDT
DTSTART:20240310T100000
END:DAYLIGHT
BEGIN:STANDARD
TZOFFSETFROM:-0700
TZOFFSETTO:-0800
TZNAME:PST
DTSTART:20241103T090000
END:STANDARD
BEGIN:DAYLIGHT
TZOFFSETFROM:-0800
TZOFFSETTO:-0700
TZNAME:PDT
DTSTART:20250309T100000
END:DAYLIGHT
BEGIN:STANDARD
TZOFFSETFROM:-0700
TZOFFSETTO:-0800
TZNAME:PST
DTSTART:20251102T090000
END:STANDARD
BEGIN:DAYLIGHT
TZOFFSETFROM:-0800
TZOFFSETTO:-0700
TZNAME:PDT
DTSTART:20260308T100000
END:DAYLIGHT
BEGIN:STANDARD
TZOFFSETFROM:-0700
TZOFFSETTO:-0800
TZNAME:PST
DTSTART:20261101T090000
END:STANDARD
END:VTIMEZONE
BEGIN:VEVENT
DTSTART;TZID=America/Los_Angeles:20250720T140000
DTEND;TZID=America/Los_Angeles:20250720T160000
DTSTAMP:20260423T162408
CREATED:20250713T054913Z
LAST-MODIFIED:20250713T054913Z
UID:10004664-1753020000-1753027200@contracostadems.com
SUMMARY:Marsh Creek Democratic Club General Meeting
DESCRIPTION:Guest Speaker Representative John Garamendi (CA 8) will join the club for their general meeting. You can attend in person or virtually! \nIn-person location:\n35 Oak St. 2nd Fl\nBrentwood\, CA \nRSVP at marshcreekdems@gmail.com for a Zoom link.
URL:https://contracostadems.com/event/marsh-creek-democratic-club-general-meeting/
CATEGORIES:Clubs,Meetings
ORGANIZER;CN="Marsh Creek Dems":MAILTO:marshcreekdems@gmail.com
END:VEVENT
END:VCALENDAR