BEGIN:VCALENDAR
VERSION:2.0
PRODID:-//Democratic Party of Contra Costa County - ECPv6.15.20//NONSGML v1.0//EN
CALSCALE:GREGORIAN
METHOD:PUBLISH
X-WR-CALNAME:Democratic Party of Contra Costa County
X-ORIGINAL-URL:https://contracostadems.com
X-WR-CALDESC:Events for Democratic Party of Contra Costa County
REFRESH-INTERVAL;VALUE=DURATION:PT1H
X-Robots-Tag:noindex
X-PUBLISHED-TTL:PT1H
BEGIN:VTIMEZONE
TZID:America/Los_Angeles
BEGIN:DAYLIGHT
TZOFFSETFROM:-0800
TZOFFSETTO:-0700
TZNAME:PDT
DTSTART:20240310T100000
END:DAYLIGHT
BEGIN:STANDARD
TZOFFSETFROM:-0700
TZOFFSETTO:-0800
TZNAME:PST
DTSTART:20241103T090000
END:STANDARD
BEGIN:DAYLIGHT
TZOFFSETFROM:-0800
TZOFFSETTO:-0700
TZNAME:PDT
DTSTART:20250309T100000
END:DAYLIGHT
BEGIN:STANDARD
TZOFFSETFROM:-0700
TZOFFSETTO:-0800
TZNAME:PST
DTSTART:20251102T090000
END:STANDARD
BEGIN:DAYLIGHT
TZOFFSETFROM:-0800
TZOFFSETTO:-0700
TZNAME:PDT
DTSTART:20260308T100000
END:DAYLIGHT
BEGIN:STANDARD
TZOFFSETFROM:-0700
TZOFFSETTO:-0800
TZNAME:PST
DTSTART:20261101T090000
END:STANDARD
BEGIN:DAYLIGHT
TZOFFSETFROM:-0800
TZOFFSETTO:-0700
TZNAME:PDT
DTSTART:20270314T100000
END:DAYLIGHT
BEGIN:STANDARD
TZOFFSETFROM:-0700
TZOFFSETTO:-0800
TZNAME:PST
DTSTART:20271107T090000
END:STANDARD
END:VTIMEZONE
BEGIN:VEVENT
DTSTART;TZID=America/Los_Angeles:20260422T190000
DTEND;TZID=America/Los_Angeles:20260422T200000
DTSTAMP:20260423T105522
CREATED:20250227T014041Z
LAST-MODIFIED:20250227T014600Z
UID:10004571-1776884400-1776888000@contracostadems.com
SUMMARY:Comms & Infrastructure Committee
DESCRIPTION:Monthly meeting of DPCCC Communications & Infrastructure Committee\, team responsible for outbound communications for the Democratic Party of Contra Costa County – website\, social media\, public relations and email. \nMeeting Information\nDate: 4th Wednesday of each month (except December)\nTime: 7 p.m. – 8 p.m.\nZoom: https://us02web.zoom.us/j/84602073959\nOne tap mobile: +16699006833\,\,84602073959#
URL:https://contracostadems.com/event/comms-infrastructure-committee/2026-04-22/
LOCATION:Zoom\, CA
CATEGORIES:Committees
END:VEVENT
BEGIN:VEVENT
DTSTART;TZID=America/Los_Angeles:20260416T190000
DTEND;TZID=America/Los_Angeles:20260416T220000
DTSTAMP:20260423T105522
CREATED:20220728T052633Z
LAST-MODIFIED:20231012T082824Z
UID:10001556-1776366000-1776376800@contracostadems.com
SUMMARY:General Membership Meeting
DESCRIPTION:If you are not a DPCCC member and wish to attend\, please RSVP to the DPCCC Secretary at secretary@contracostadems.com. \nIf you are a DPCCC member\, you should have received an email with details for the meeting about seven days in advance. If you did not\, please email the DPCCC Secretary at secretary@contracostadems.com.
URL:https://contracostadems.com/event/membership-meeting/2026-04-16/
LOCATION:Zoom\, CA
CATEGORIES:Meetings
ATTACH;FMTTYPE=image/png:https://contracostadems.com/wp-content/uploads/2019/08/logoHiResTransparent-e1574965383959.png
END:VEVENT
BEGIN:VEVENT
DTSTART;TZID=America/Los_Angeles:20260413T190000
DTEND;TZID=America/Los_Angeles:20260413T210000
DTSTAMP:20260423T105522
CREATED:20230922T041053Z
LAST-MODIFIED:20240528T043056Z
UID:10004092-1776106800-1776114000@contracostadems.com
SUMMARY:Rules Committee
DESCRIPTION:To attend\, contact Jeff Koertzen at jeff@jeffkoertzen.com
URL:https://contracostadems.com/event/rules-committee-27/2026-04-13/
LOCATION:Zoom\, CA
CATEGORIES:Committees
END:VEVENT
BEGIN:VEVENT
DTSTART;TZID=America/Los_Angeles:20251127T190000
DTEND;TZID=America/Los_Angeles:20251127T200000
DTSTAMP:20260423T105522
CREATED:20251123T222943Z
LAST-MODIFIED:20251123T222943Z
UID:10004611-1764270000-1764273600@contracostadems.com
SUMMARY:Solidarity Gala Planning Committee
DESCRIPTION:Help us plan our annual Solidarity Gala!
URL:https://contracostadems.com/event/solidarity-gala-planning-committee-2/2025-11-27/
LOCATION:Zoom\, CA
CATEGORIES:Committees
END:VEVENT
END:VCALENDAR